BEGIN:VCALENDAR
VERSION:2.0
PRODID:-//Northstar Christian Academy - ECPv6.15.20//NONSGML v1.0//EN
CALSCALE:GREGORIAN
METHOD:PUBLISH
X-ORIGINAL-URL:https://northstarknights.com
X-WR-CALDESC:Events for Northstar Christian Academy
REFRESH-INTERVAL;VALUE=DURATION:PT1H
X-Robots-Tag:noindex
X-PUBLISHED-TTL:PT1H
BEGIN:VTIMEZONE
TZID:America/Chicago
BEGIN:DAYLIGHT
TZOFFSETFROM:-0600
TZOFFSETTO:-0500
TZNAME:CDT
DTSTART:20200308T080000
END:DAYLIGHT
BEGIN:STANDARD
TZOFFSETFROM:-0500
TZOFFSETTO:-0600
TZNAME:CST
DTSTART:20201101T070000
END:STANDARD
BEGIN:DAYLIGHT
TZOFFSETFROM:-0600
TZOFFSETTO:-0500
TZNAME:CDT
DTSTART:20210314T080000
END:DAYLIGHT
BEGIN:STANDARD
TZOFFSETFROM:-0500
TZOFFSETTO:-0600
TZNAME:CST
DTSTART:20211107T070000
END:STANDARD
BEGIN:DAYLIGHT
TZOFFSETFROM:-0600
TZOFFSETTO:-0500
TZNAME:CDT
DTSTART:20220313T080000
END:DAYLIGHT
BEGIN:STANDARD
TZOFFSETFROM:-0500
TZOFFSETTO:-0600
TZNAME:CST
DTSTART:20221106T070000
END:STANDARD
END:VTIMEZONE
BEGIN:VEVENT
DTSTART;TZID=America/Chicago:20211211T115000
DTEND;TZID=America/Chicago:20211211T115000
DTSTAMP:20260423T040802
CREATED:20211221T000027Z
LAST-MODIFIED:20220209T213924Z
UID:409-1639223400-1639223400@northstarknights.com
SUMMARY:U18 Northstar Knights vs Reapers
DESCRIPTION:
URL:https://northstarknights.com/event/u18-northstar-knights-vs-reapers-4/
LOCATION:Mt. Prospect Ice Arena\, 1501 Feehanville Dr\, Mt Prospect\, IL\, 60056\, United States
CATEGORIES:18U Northstar Knights Season Schedule
END:VEVENT
BEGIN:VEVENT
DTSTART;TZID=America/Chicago:20211211T180000
DTEND;TZID=America/Chicago:20211211T180000
DTSTAMP:20260423T040802
CREATED:20211220T235606Z
LAST-MODIFIED:20220210T013056Z
UID:406-1639245600-1639245600@northstarknights.com
SUMMARY:U16 Northstar Knights vs Reapers
DESCRIPTION:(W 4-1)
URL:https://northstarknights.com/event/u16-northstar-knights-vs-reapers-3/
LOCATION:Mt. Prospect Ice Arena\, 1501 Feehanville Dr\, Mt Prospect\, IL\, 60056\, United States
CATEGORIES:16U Northstar Knights Season Schedule
END:VEVENT
END:VCALENDAR