BEGIN:VCALENDAR
VERSION:2.0
PRODID:-//Northstar Christian Academy - ECPv6.15.20//NONSGML v1.0//EN
CALSCALE:GREGORIAN
METHOD:PUBLISH
X-WR-CALNAME:Northstar Christian Academy
X-ORIGINAL-URL:https://northstarknights.com
X-WR-CALDESC:Events for Northstar Christian Academy
REFRESH-INTERVAL;VALUE=DURATION:PT1H
X-Robots-Tag:noindex
X-PUBLISHED-TTL:PT1H
BEGIN:VTIMEZONE
TZID:America/Chicago
BEGIN:DAYLIGHT
TZOFFSETFROM:-0600
TZOFFSETTO:-0500
TZNAME:CDT
DTSTART:20210314T080000
END:DAYLIGHT
BEGIN:STANDARD
TZOFFSETFROM:-0500
TZOFFSETTO:-0600
TZNAME:CST
DTSTART:20211107T070000
END:STANDARD
BEGIN:DAYLIGHT
TZOFFSETFROM:-0600
TZOFFSETTO:-0500
TZNAME:CDT
DTSTART:20220313T080000
END:DAYLIGHT
BEGIN:STANDARD
TZOFFSETFROM:-0500
TZOFFSETTO:-0600
TZNAME:CST
DTSTART:20221106T070000
END:STANDARD
BEGIN:DAYLIGHT
TZOFFSETFROM:-0600
TZOFFSETTO:-0500
TZNAME:CDT
DTSTART:20230312T080000
END:DAYLIGHT
BEGIN:STANDARD
TZOFFSETFROM:-0500
TZOFFSETTO:-0600
TZNAME:CST
DTSTART:20231105T070000
END:STANDARD
END:VTIMEZONE
BEGIN:VEVENT
DTSTART;TZID=America/Chicago:20220115T063000
DTEND;TZID=America/Chicago:20220115T063000
DTSTAMP:20260420T023619
CREATED:20211220T233120Z
LAST-MODIFIED:20220209T200154Z
UID:394-1642228200-1642228200@northstarknights.com
SUMMARY:U16 Northstar Knights vs. Esmark Stars (NAPHL Showcase)
DESCRIPTION:(W 3-2)
URL:https://northstarknights.com/event/naphl-showcase-3/
LOCATION:Indy Fuel Tank\, 9022 E 126th St\, Fishers\, IN\, 46038
CATEGORIES:16U Northstar Knights Season Schedule
END:VEVENT
BEGIN:VEVENT
DTSTART;TZID=America/Chicago:20220115T080000
DTEND;TZID=America/Chicago:20220115T080000
DTSTAMP:20260420T023619
CREATED:20220210T050457Z
LAST-MODIFIED:20220210T051100Z
UID:14189-1642233600-1642233600@northstarknights.com
SUMMARY:U18 Northstar Knights vs. Tri-State Spartans (NAPHL Showcase)
DESCRIPTION:(W 3-1)
URL:https://northstarknights.com/event/u18-northstar-knights-vs-try-state-spartans-naphl-showcase/
LOCATION:Indy Fuel Tank\, 9022 E 126th St\, Fishers\, IN\, 46038
CATEGORIES:18U Northstar Knights Season Schedule
END:VEVENT
BEGIN:VEVENT
DTSTART;TZID=America/Chicago:20220115T143000
DTEND;TZID=America/Chicago:20220115T143000
DTSTAMP:20260420T023619
CREATED:20220209T200501Z
LAST-MODIFIED:20220210T050825Z
UID:14179-1642257000-1642257000@northstarknights.com
SUMMARY:U16 Northstar Knights vs. Tri-State Spartans (NAPHL Showcase)
DESCRIPTION:(W 4-1)
URL:https://northstarknights.com/event/u16-northstar-knights-vs-try-state-spartans-naphl-showcase/
LOCATION:Indy Fuel Tank\, 9022 E 126th St\, Fishers\, IN\, 46038
CATEGORIES:16U Northstar Knights Season Schedule
END:VEVENT
END:VCALENDAR