BEGIN:VCALENDAR
VERSION:2.0
PRODID:-//Northstar Christian Academy - ECPv6.15.20//NONSGML v1.0//EN
CALSCALE:GREGORIAN
METHOD:PUBLISH
X-ORIGINAL-URL:https://northstarknights.com
X-WR-CALDESC:Events for Northstar Christian Academy
REFRESH-INTERVAL;VALUE=DURATION:PT1H
X-Robots-Tag:noindex
X-PUBLISHED-TTL:PT1H
BEGIN:VTIMEZONE
TZID:America/Chicago
BEGIN:DAYLIGHT
TZOFFSETFROM:-0600
TZOFFSETTO:-0500
TZNAME:CDT
DTSTART:20210314T080000
END:DAYLIGHT
BEGIN:STANDARD
TZOFFSETFROM:-0500
TZOFFSETTO:-0600
TZNAME:CST
DTSTART:20211107T070000
END:STANDARD
BEGIN:DAYLIGHT
TZOFFSETFROM:-0600
TZOFFSETTO:-0500
TZNAME:CDT
DTSTART:20220313T080000
END:DAYLIGHT
BEGIN:STANDARD
TZOFFSETFROM:-0500
TZOFFSETTO:-0600
TZNAME:CST
DTSTART:20221106T070000
END:STANDARD
BEGIN:DAYLIGHT
TZOFFSETFROM:-0600
TZOFFSETTO:-0500
TZNAME:CDT
DTSTART:20230312T080000
END:DAYLIGHT
BEGIN:STANDARD
TZOFFSETFROM:-0500
TZOFFSETTO:-0600
TZNAME:CST
DTSTART:20231105T070000
END:STANDARD
END:VTIMEZONE
BEGIN:VEVENT
DTSTART;TZID=America/Chicago:20220128T050000
DTEND;TZID=America/Chicago:20220128T050000
DTSTAMP:20260423T023705
CREATED:20211220T231614Z
LAST-MODIFIED:20220209T205241Z
UID:380-1643346000-1643346000@northstarknights.com
SUMMARY:U16 Northstar Knights vs Rocky Mountain Roughriders (Knights Showcase)
DESCRIPTION:(W 3-0)
URL:https://northstarknights.com/event/u16-northstar-knights-vs-rocky-mountain-roughriders-knights-showcase/
LOCATION:NorthStar Sports Complex\, 3888 Pioneer Rd SE\, Alexandria\, MN\, 56308\, United States
CATEGORIES:16U Northstar Knights Season Schedule
END:VEVENT
BEGIN:VEVENT
DTSTART;TZID=America/Chicago:20220128T073000
DTEND;TZID=America/Chicago:20220128T073000
DTSTAMP:20260423T023705
CREATED:20211220T231432Z
LAST-MODIFIED:20220210T050029Z
UID:378-1643355000-1643355000@northstarknights.com
SUMMARY:U18 Northstar Knights vs Rocky Mountain Roughriders (Knights Showcase)
DESCRIPTION:(W 6-4)
URL:https://northstarknights.com/event/u18-northstar-knights-vs-rocky-mountain-roughriders-knights-showcase/
LOCATION:NorthStar Sports Complex\, 3888 Pioneer Rd SE\, Alexandria\, MN\, 56308\, United States
CATEGORIES:18U Northstar Knights Season Schedule
END:VEVENT
END:VCALENDAR