BEGIN:VCALENDAR
VERSION:2.0
PRODID:-//Northstar Christian Academy - ECPv6.15.20//NONSGML v1.0//EN
CALSCALE:GREGORIAN
METHOD:PUBLISH
X-WR-CALNAME:Northstar Christian Academy
X-ORIGINAL-URL:https://northstarknights.com
X-WR-CALDESC:Events for Northstar Christian Academy
REFRESH-INTERVAL;VALUE=DURATION:PT1H
X-Robots-Tag:noindex
X-PUBLISHED-TTL:PT1H
BEGIN:VTIMEZONE
TZID:America/Chicago
BEGIN:DAYLIGHT
TZOFFSETFROM:-0600
TZOFFSETTO:-0500
TZNAME:CDT
DTSTART:20210314T080000
END:DAYLIGHT
BEGIN:STANDARD
TZOFFSETFROM:-0500
TZOFFSETTO:-0600
TZNAME:CST
DTSTART:20211107T070000
END:STANDARD
BEGIN:DAYLIGHT
TZOFFSETFROM:-0600
TZOFFSETTO:-0500
TZNAME:CDT
DTSTART:20220313T080000
END:DAYLIGHT
BEGIN:STANDARD
TZOFFSETFROM:-0500
TZOFFSETTO:-0600
TZNAME:CST
DTSTART:20221106T070000
END:STANDARD
BEGIN:DAYLIGHT
TZOFFSETFROM:-0600
TZOFFSETTO:-0500
TZNAME:CDT
DTSTART:20230312T080000
END:DAYLIGHT
BEGIN:STANDARD
TZOFFSETFROM:-0500
TZOFFSETTO:-0600
TZNAME:CST
DTSTART:20231105T070000
END:STANDARD
END:VTIMEZONE
BEGIN:VEVENT
DTSTART;TZID=America/Chicago:20221016T040000
DTEND;TZID=America/Chicago:20221016T040000
DTSTAMP:20260419T110436
CREATED:20220810T213650Z
LAST-MODIFIED:20221018T212302Z
UID:14951-1665892800-1665892800@northstarknights.com
SUMMARY:16U Knights vs. Oakland Jr. Grizzlies
DESCRIPTION:W 2-1
URL:https://northstarknights.com/event/16u-knights-vs-oakland-jr-grizzlies-3/
LOCATION:NorthStar Sports Complex\, 3888 Pioneer Rd SE\, Alexandria\, MN\, 56308\, United States
CATEGORIES:16U Northstar Knights Season Schedule
END:VEVENT
BEGIN:VEVENT
DTSTART;TZID=America/Chicago:20221016T063000
DTEND;TZID=America/Chicago:20221016T063000
DTSTAMP:20260419T110436
CREATED:20221011T200420Z
LAST-MODIFIED:20221018T212651Z
UID:15310-1665901800-1665901800@northstarknights.com
SUMMARY:18U Northstar Knights vs. Team MN
DESCRIPTION:W 8-3
URL:https://northstarknights.com/event/18u-northstar-knights-vs-team-mn-2/
LOCATION:NorthStar Sports Complex\, 3888 Pioneer Rd SE\, Alexandria\, MN\, 56308\, United States
CATEGORIES:18U Northstar Knights Season Schedule
END:VEVENT
END:VCALENDAR