BEGIN:VCALENDAR
VERSION:2.0
PRODID:-//Northstar Christian Academy - ECPv6.15.20//NONSGML v1.0//EN
CALSCALE:GREGORIAN
METHOD:PUBLISH
X-ORIGINAL-URL:https://northstarknights.com
X-WR-CALDESC:Events for Northstar Christian Academy
REFRESH-INTERVAL;VALUE=DURATION:PT1H
X-Robots-Tag:noindex
X-PUBLISHED-TTL:PT1H
BEGIN:VTIMEZONE
TZID:America/Chicago
BEGIN:DAYLIGHT
TZOFFSETFROM:-0600
TZOFFSETTO:-0500
TZNAME:CDT
DTSTART:20210314T080000
END:DAYLIGHT
BEGIN:STANDARD
TZOFFSETFROM:-0500
TZOFFSETTO:-0600
TZNAME:CST
DTSTART:20211107T070000
END:STANDARD
BEGIN:DAYLIGHT
TZOFFSETFROM:-0600
TZOFFSETTO:-0500
TZNAME:CDT
DTSTART:20220313T080000
END:DAYLIGHT
BEGIN:STANDARD
TZOFFSETFROM:-0500
TZOFFSETTO:-0600
TZNAME:CST
DTSTART:20221106T070000
END:STANDARD
BEGIN:DAYLIGHT
TZOFFSETFROM:-0600
TZOFFSETTO:-0500
TZNAME:CDT
DTSTART:20230312T080000
END:DAYLIGHT
BEGIN:STANDARD
TZOFFSETFROM:-0500
TZOFFSETTO:-0600
TZNAME:CST
DTSTART:20231105T070000
END:STANDARD
END:VTIMEZONE
BEGIN:VEVENT
DTSTART;TZID=America/Chicago:20221106T033000
DTEND;TZID=America/Chicago:20221106T060000
DTSTAMP:20260421T170145
CREATED:20220810T214011Z
LAST-MODIFIED:20221119T031956Z
UID:14955-1667705400-1667714400@northstarknights.com
SUMMARY:16U Knights vs. Team MN
DESCRIPTION:W 4-3
URL:https://northstarknights.com/event/16u-knights-vs-team-mn/
LOCATION:NorthStar Sports Complex\, 3888 Pioneer Rd SE\, Alexandria\, MN\, 56308\, United States
CATEGORIES:16U Northstar Knights Season Schedule
END:VEVENT
BEGIN:VEVENT
DTSTART;TZID=America/Chicago:20221106T050000
DTEND;TZID=America/Chicago:20221106T050000
DTSTAMP:20260421T170145
CREATED:20221119T034936Z
LAST-MODIFIED:20221119T034936Z
UID:15540-1667710800-1667710800@northstarknights.com
SUMMARY:18U Knights vs. Stanstead College Prep (International Invitational Tournament)
DESCRIPTION:W 4-1
URL:https://northstarknights.com/event/18u-knights-vs-stanstead-college-prep-international-invitational-tournament/
LOCATION:New Hope Ice Arena\, 4949 Louisiana Ave N\, New Hope\, 55428
CATEGORIES:18U Northstar Knights Season Schedule
END:VEVENT
END:VCALENDAR