BEGIN:VCALENDAR
VERSION:2.0
PRODID:-//Northstar Christian Academy - ECPv6.15.20//NONSGML v1.0//EN
CALSCALE:GREGORIAN
METHOD:PUBLISH
X-WR-CALNAME:Northstar Christian Academy
X-ORIGINAL-URL:https://northstarknights.com
X-WR-CALDESC:Events for Northstar Christian Academy
REFRESH-INTERVAL;VALUE=DURATION:PT1H
X-Robots-Tag:noindex
X-PUBLISHED-TTL:PT1H
BEGIN:VTIMEZONE
TZID:America/Chicago
BEGIN:DAYLIGHT
TZOFFSETFROM:-0600
TZOFFSETTO:-0500
TZNAME:CDT
DTSTART:20210314T080000
END:DAYLIGHT
BEGIN:STANDARD
TZOFFSETFROM:-0500
TZOFFSETTO:-0600
TZNAME:CST
DTSTART:20211107T070000
END:STANDARD
BEGIN:DAYLIGHT
TZOFFSETFROM:-0600
TZOFFSETTO:-0500
TZNAME:CDT
DTSTART:20220313T080000
END:DAYLIGHT
BEGIN:STANDARD
TZOFFSETFROM:-0500
TZOFFSETTO:-0600
TZNAME:CST
DTSTART:20221106T070000
END:STANDARD
BEGIN:DAYLIGHT
TZOFFSETFROM:-0600
TZOFFSETTO:-0500
TZNAME:CDT
DTSTART:20230312T080000
END:DAYLIGHT
BEGIN:STANDARD
TZOFFSETFROM:-0500
TZOFFSETTO:-0600
TZNAME:CST
DTSTART:20231105T070000
END:STANDARD
END:VTIMEZONE
BEGIN:VEVENT
DTSTART;TZID=America/Chicago:20221111T063000
DTEND;TZID=America/Chicago:20221111T063000
DTSTAMP:20260421T140217
CREATED:20221119T034018Z
LAST-MODIFIED:20221119T034018Z
UID:15527-1668148200-1668148200@northstarknights.com
SUMMARY:18U Knights vs. Esmark Stars (Verbero Showcase Series)
DESCRIPTION:W 4-3
URL:https://northstarknights.com/event/18u-knights-vs-esmark-stars-verbero-showcase-series/
LOCATION:Ralston Arena\, 7300 Q Street\, Ralston\, Nebraska\, 68127\, United States
CATEGORIES:18U Northstar Knights Season Schedule
END:VEVENT
BEGIN:VEVENT
DTSTART;TZID=America/Chicago:20221111T090000
DTEND;TZID=America/Chicago:20221111T090000
DTSTAMP:20260421T140217
CREATED:20220812T035828Z
LAST-MODIFIED:20221119T033200Z
UID:14982-1668157200-1668157200@northstarknights.com
SUMMARY:16U Knights vs. Rocky Mountain Roughriders (Verbero Showcase Series)
DESCRIPTION:W 8-0
URL:https://northstarknights.com/event/16u-knights-vs-tbd-verbero-showcase-series/
LOCATION:Ralston Arena\, 7300 Q Street\, Ralston\, Nebraska\, 68127\, United States
CATEGORIES:16U Northstar Knights Season Schedule
END:VEVENT
END:VCALENDAR