BEGIN:VCALENDAR
VERSION:2.0
PRODID:-//Northstar Christian Academy - ECPv6.15.20//NONSGML v1.0//EN
CALSCALE:GREGORIAN
METHOD:PUBLISH
X-WR-CALNAME:Northstar Christian Academy
X-ORIGINAL-URL:https://northstarknights.com
X-WR-CALDESC:Events for Northstar Christian Academy
REFRESH-INTERVAL;VALUE=DURATION:PT1H
X-Robots-Tag:noindex
X-PUBLISHED-TTL:PT1H
BEGIN:VTIMEZONE
TZID:America/Chicago
BEGIN:DAYLIGHT
TZOFFSETFROM:-0600
TZOFFSETTO:-0500
TZNAME:CDT
DTSTART:20220313T080000
END:DAYLIGHT
BEGIN:STANDARD
TZOFFSETFROM:-0500
TZOFFSETTO:-0600
TZNAME:CST
DTSTART:20221106T070000
END:STANDARD
BEGIN:DAYLIGHT
TZOFFSETFROM:-0600
TZOFFSETTO:-0500
TZNAME:CDT
DTSTART:20230312T080000
END:DAYLIGHT
BEGIN:STANDARD
TZOFFSETFROM:-0500
TZOFFSETTO:-0600
TZNAME:CST
DTSTART:20231105T070000
END:STANDARD
BEGIN:DAYLIGHT
TZOFFSETFROM:-0600
TZOFFSETTO:-0500
TZNAME:CDT
DTSTART:20240310T080000
END:DAYLIGHT
BEGIN:STANDARD
TZOFFSETFROM:-0500
TZOFFSETTO:-0600
TZNAME:CST
DTSTART:20241103T070000
END:STANDARD
END:VTIMEZONE
BEGIN:VEVENT
DTSTART;TZID=America/Chicago:20230127T103000
DTEND;TZID=America/Chicago:20230127T123000
DTSTAMP:20260421T165901
CREATED:20220903T205002Z
LAST-MODIFIED:20230131T215828Z
UID:15069-1674815400-1674822600@northstarknights.com
SUMMARY:16U Knights vs. Rink Academy (Knights Showcase)
DESCRIPTION:W 4-1
URL:https://northstarknights.com/event/16u-knights-vs-rink-academy-knights-showcase/
LOCATION:NorthStar Sports Complex\, 3888 Pioneer Rd SE\, Alexandria\, MN\, 56308\, United States
CATEGORIES:16U Northstar Knights Season Schedule
END:VEVENT
BEGIN:VEVENT
DTSTART;TZID=America/Chicago:20230127T130000
DTEND;TZID=America/Chicago:20230127T130000
DTSTAMP:20260421T165901
CREATED:20221012T010501Z
LAST-MODIFIED:20230131T215345Z
UID:15352-1674824400-1674824400@northstarknights.com
SUMMARY:18U Knights vs. Rink Academy (Knights Showcase)
DESCRIPTION:SOL 2-3
URL:https://northstarknights.com/event/18u-knights-vs-rink-academy-knights-showcase/
LOCATION:NorthStar Sports Complex\, 3888 Pioneer Rd SE\, Alexandria\, MN\, 56308\, United States
CATEGORIES:18U Northstar Knights Season Schedule
END:VEVENT
END:VCALENDAR