BEGIN:VCALENDAR
VERSION:2.0
PRODID:-//Northstar Christian Academy - ECPv6.15.20//NONSGML v1.0//EN
CALSCALE:GREGORIAN
METHOD:PUBLISH
X-WR-CALNAME:Northstar Christian Academy
X-ORIGINAL-URL:https://northstarknights.com
X-WR-CALDESC:Events for Northstar Christian Academy
REFRESH-INTERVAL;VALUE=DURATION:PT1H
X-Robots-Tag:noindex
X-PUBLISHED-TTL:PT1H
BEGIN:VTIMEZONE
TZID:America/Chicago
BEGIN:DAYLIGHT
TZOFFSETFROM:-0600
TZOFFSETTO:-0500
TZNAME:CDT
DTSTART:20240310T080000
END:DAYLIGHT
BEGIN:STANDARD
TZOFFSETFROM:-0500
TZOFFSETTO:-0600
TZNAME:CST
DTSTART:20241103T070000
END:STANDARD
BEGIN:DAYLIGHT
TZOFFSETFROM:-0600
TZOFFSETTO:-0500
TZNAME:CDT
DTSTART:20250309T080000
END:DAYLIGHT
BEGIN:STANDARD
TZOFFSETFROM:-0500
TZOFFSETTO:-0600
TZNAME:CST
DTSTART:20251102T070000
END:STANDARD
BEGIN:DAYLIGHT
TZOFFSETFROM:-0600
TZOFFSETTO:-0500
TZNAME:CDT
DTSTART:20260308T080000
END:DAYLIGHT
BEGIN:STANDARD
TZOFFSETFROM:-0500
TZOFFSETTO:-0600
TZNAME:CST
DTSTART:20261101T070000
END:STANDARD
BEGIN:DAYLIGHT
TZOFFSETFROM:-0600
TZOFFSETTO:-0500
TZNAME:CDT
DTSTART:20270314T080000
END:DAYLIGHT
BEGIN:STANDARD
TZOFFSETFROM:-0500
TZOFFSETTO:-0600
TZNAME:CST
DTSTART:20271107T070000
END:STANDARD
END:VTIMEZONE
BEGIN:VEVENT
DTSTART;TZID=America/Chicago:20251210T130000
DTEND;TZID=America/Chicago:20251210T150000
DTSTAMP:20260424T081748
CREATED:20250916T164434Z
LAST-MODIFIED:20250916T164434Z
UID:20304-1765371600-1765378800@northstarknights.com
SUMMARY:18U Knights @ Chicago Fury
DESCRIPTION:
URL:https://northstarknights.com/event/18u-knights-chicago-fury/
LOCATION:Arctic Ice Arena\, 10700 160th St\, Orland Park\, IL\, 60467\, United States
CATEGORIES:18U Northstar Knights Season Schedule
END:VEVENT
BEGIN:VEVENT
DTSTART;TZID=America/Chicago:20251212T100000
DTEND;TZID=America/Chicago:20251212T120000
DTSTAMP:20260424T081748
CREATED:20250521T040806Z
LAST-MODIFIED:20250916T162008Z
UID:19934-1765533600-1765540800@northstarknights.com
SUMMARY:18U Knights vs. Seacoast Spartans (NEPACK Showcase)
DESCRIPTION:
URL:https://northstarknights.com/event/18u-knights-nepack-showcase-2/
LOCATION:Woodbridge Community Center\, 600 Main St\, Woodbridge\, NJ\, 07095\, United States
CATEGORIES:18U Northstar Knights Season Schedule
END:VEVENT
BEGIN:VEVENT
DTSTART;TZID=America/Chicago:20251213T143000
DTEND;TZID=America/Chicago:20251213T163000
DTSTAMP:20260424T081748
CREATED:20250916T162626Z
LAST-MODIFIED:20250916T163542Z
UID:20297-1765636200-1765643400@northstarknights.com
SUMMARY:18U Knights vs. Pittsburgh Penguins Elite (NEPACK Showcase)
DESCRIPTION:
URL:https://northstarknights.com/event/18u-knights-vs-pittsburgh-penguins-elite-nepack-showcase/
LOCATION:Bridgewater Sports Arena\, 1425 Frontier Road\, Bridgewater\, NJ\, 08807\, United States
CATEGORIES:18U Northstar Knights Season Schedule
END:VEVENT
BEGIN:VEVENT
DTSTART;TZID=America/Chicago:20251214T093000
DTEND;TZID=America/Chicago:20251214T113000
DTSTAMP:20260424T081748
CREATED:20250916T162947Z
LAST-MODIFIED:20250916T162947Z
UID:20298-1765704600-1765711800@northstarknights.com
SUMMARY:18U Knights vs. Bishop Kearney (NEPACK Showcase)
DESCRIPTION:
URL:https://northstarknights.com/event/18u-knights-vs-bishop-kearney-nepack-showcase/
LOCATION:The Club at Woodbridge\, 585 Main Street\, Woodbridge\, NJ\, 07095\, United States
CATEGORIES:18U Northstar Knights Season Schedule
END:VEVENT
BEGIN:VEVENT
DTSTART;TZID=America/Chicago:20251219T190000
DTEND;TZID=America/Chicago:20251219T210000
DTSTAMP:20260424T081748
CREATED:20250521T034658Z
LAST-MODIFIED:20251029T210149Z
UID:19930-1766170800-1766178000@northstarknights.com
SUMMARY:18U Knights vs. Madison Capitols
DESCRIPTION:
URL:https://northstarknights.com/event/18u-knights-vs-madison-capitols/
LOCATION:NorthStar Sports Complex\, 3888 Pioneer Rd SE\, Alexandria\, MN\, 56308\, United States
CATEGORIES:18U Northstar Knights Season Schedule
END:VEVENT
BEGIN:VEVENT
DTSTART;TZID=America/Chicago:20251220T111500
DTEND;TZID=America/Chicago:20251220T133000
DTSTAMP:20260424T081748
CREATED:20250521T034935Z
LAST-MODIFIED:20250521T034935Z
UID:19932-1766229300-1766237400@northstarknights.com
SUMMARY:18U Knights vs. Madison Capitols
DESCRIPTION:
URL:https://northstarknights.com/event/18u-knights-vs-madison-capitols-2/
LOCATION:NorthStar Sports Complex\, 3888 Pioneer Rd SE\, Alexandria\, MN\, 56308\, United States
CATEGORIES:18U Northstar Knights Season Schedule
END:VEVENT
BEGIN:VEVENT
DTSTART;VALUE=DATE:20251221
DTEND;VALUE=DATE:20260112
DTSTAMP:20260424T081748
CREATED:20250418T224407Z
LAST-MODIFIED:20251209T182417Z
UID:19798-1766275200-1768175999@northstarknights.com
SUMMARY:Knights Christmas Break
DESCRIPTION:
URL:https://northstarknights.com/event/knights-christmas-break-2/
CATEGORIES:16U Northstar Knights Season Schedule,18U Northstar Knights Season Schedule
END:VEVENT
END:VCALENDAR