BEGIN:VCALENDAR
VERSION:2.0
PRODID:-//Northstar Christian Academy - ECPv6.15.20//NONSGML v1.0//EN
CALSCALE:GREGORIAN
METHOD:PUBLISH
X-ORIGINAL-URL:https://northstarknights.com
X-WR-CALDESC:Events for Northstar Christian Academy
REFRESH-INTERVAL;VALUE=DURATION:PT1H
X-Robots-Tag:noindex
X-PUBLISHED-TTL:PT1H
BEGIN:VTIMEZONE
TZID:America/Chicago
BEGIN:DAYLIGHT
TZOFFSETFROM:-0600
TZOFFSETTO:-0500
TZNAME:CDT
DTSTART:20250309T080000
END:DAYLIGHT
BEGIN:STANDARD
TZOFFSETFROM:-0500
TZOFFSETTO:-0600
TZNAME:CST
DTSTART:20251102T070000
END:STANDARD
BEGIN:DAYLIGHT
TZOFFSETFROM:-0600
TZOFFSETTO:-0500
TZNAME:CDT
DTSTART:20260308T080000
END:DAYLIGHT
BEGIN:STANDARD
TZOFFSETFROM:-0500
TZOFFSETTO:-0600
TZNAME:CST
DTSTART:20261101T070000
END:STANDARD
BEGIN:DAYLIGHT
TZOFFSETFROM:-0600
TZOFFSETTO:-0500
TZNAME:CDT
DTSTART:20270314T080000
END:DAYLIGHT
BEGIN:STANDARD
TZOFFSETFROM:-0500
TZOFFSETTO:-0600
TZNAME:CST
DTSTART:20271107T070000
END:STANDARD
END:VTIMEZONE
BEGIN:VEVENT
DTSTART;TZID=America/Chicago:20260201T100000
DTEND;TZID=America/Chicago:20260201T120000
DTSTAMP:20260422T080433
CREATED:20250521T124642Z
LAST-MODIFIED:20251013T210841Z
UID:19945-1769940000-1769947200@northstarknights.com
SUMMARY:18U Knights vs. Upper Canada
DESCRIPTION:
URL:https://northstarknights.com/event/18u-knights-vs-upper-canada-2/
LOCATION:NorthStar Sports Complex\, 3888 Pioneer Rd SE\, Alexandria\, MN\, 56308\, United States
CATEGORIES:18U Northstar Knights Season Schedule
END:VEVENT
BEGIN:VEVENT
DTSTART;VALUE=DATE:20260207
DTEND;VALUE=DATE:20260209
DTSTAMP:20260422T080433
CREATED:20250521T124920Z
LAST-MODIFIED:20250521T124920Z
UID:19947-1770422400-1770595199@northstarknights.com
SUMMARY:Off Weekend
DESCRIPTION:
URL:https://northstarknights.com/event/off-weekend-2/
CATEGORIES:16U Northstar Knights Season Schedule,18U Northstar Knights Season Schedule
END:VEVENT
BEGIN:VEVENT
DTSTART;TZID=America/Chicago:20260214T181500
DTEND;TZID=America/Chicago:20260214T204500
DTSTAMP:20260422T080433
CREATED:20250521T125142Z
LAST-MODIFIED:20250521T125142Z
UID:19949-1771092900-1771101900@northstarknights.com
SUMMARY:18U Knights vs. New Jersey Hitmen (Parents Weekend)
DESCRIPTION:
URL:https://northstarknights.com/event/18u-knights-vs-new-jersey-hitmen-parents-weekend/
LOCATION:NorthStar Sports Complex\, 3888 Pioneer Rd SE\, Alexandria\, MN\, 56308\, United States
CATEGORIES:18U Northstar Knights Season Schedule
END:VEVENT
BEGIN:VEVENT
DTSTART;TZID=America/Chicago:20260215T111500
DTEND;TZID=America/Chicago:20260215T134500
DTSTAMP:20260422T080433
CREATED:20250521T125254Z
LAST-MODIFIED:20250521T125254Z
UID:19951-1771154100-1771163100@northstarknights.com
SUMMARY:18U Knights vs. New Jersey Hitmen (Parents Weekend)
DESCRIPTION:
URL:https://northstarknights.com/event/18u-knights-vs-new-jersey-hitmen-parents-weekend-2/
LOCATION:NorthStar Sports Complex\, 3888 Pioneer Rd SE\, Alexandria\, MN\, 56308\, United States
CATEGORIES:18U Northstar Knights Season Schedule
END:VEVENT
BEGIN:VEVENT
DTSTART;TZID=America/Chicago:20260220T150000
DTEND;TZID=America/Chicago:20260220T173000
DTSTAMP:20260422T080433
CREATED:20260109T180703Z
LAST-MODIFIED:20260109T180703Z
UID:20933-1771599600-1771608600@northstarknights.com
SUMMARY:18U Knights vs. Lake Forest Academy
DESCRIPTION:
URL:https://northstarknights.com/event/18u-knights-vs-lake-forest-academy/
LOCATION:NorthStar Sports Complex\, 3888 Pioneer Rd SE\, Alexandria\, MN\, 56308\, United States
CATEGORIES:18U Northstar Knights Season Schedule
END:VEVENT
BEGIN:VEVENT
DTSTART;TZID=America/Chicago:20260221T090000
DTEND;TZID=America/Chicago:20260221T113000
DTSTAMP:20260422T080433
CREATED:20260109T180740Z
LAST-MODIFIED:20260116T210613Z
UID:20934-1771664400-1771673400@northstarknights.com
SUMMARY:18U Knights vs. Lake Forest Academy
DESCRIPTION:
URL:https://northstarknights.com/event/18u-knights-vs-lake-forest-academy-2/
LOCATION:NorthStar Sports Complex\, 3888 Pioneer Rd SE\, Alexandria\, MN\, 56308\, United States
CATEGORIES:18U Northstar Knights Season Schedule
END:VEVENT
BEGIN:VEVENT
DTSTART;TZID=America/Chicago:20260227T181500
DTEND;TZID=America/Chicago:20260227T204500
DTSTAMP:20260422T080433
CREATED:20250521T125521Z
LAST-MODIFIED:20250521T125521Z
UID:19953-1772216100-1772225100@northstarknights.com
SUMMARY:18U Knights vs. Sioux Falls Power
DESCRIPTION:
URL:https://northstarknights.com/event/18u-knights-vs-sioux-falls-power-11/
LOCATION:NorthStar Sports Complex\, 3888 Pioneer Rd SE\, Alexandria\, MN\, 56308\, United States
CATEGORIES:18U Northstar Knights Season Schedule
END:VEVENT
BEGIN:VEVENT
DTSTART;TZID=America/Chicago:20260228T111500
DTEND;TZID=America/Chicago:20260228T134500
DTSTAMP:20260422T080433
CREATED:20250521T125949Z
LAST-MODIFIED:20250521T125949Z
UID:19955-1772277300-1772286300@northstarknights.com
SUMMARY:18U Knights vs. Sioux Falls Power
DESCRIPTION:
URL:https://northstarknights.com/event/18u-knights-vs-sioux-falls-power-12/
LOCATION:NorthStar Sports Complex\, 3888 Pioneer Rd SE\, Alexandria\, MN\, 56308\, United States
CATEGORIES:18U Northstar Knights Season Schedule
END:VEVENT
END:VCALENDAR