BEGIN:VCALENDAR
VERSION:2.0
PRODID:-//Northstar Christian Academy - ECPv6.15.20//NONSGML v1.0//EN
CALSCALE:GREGORIAN
METHOD:PUBLISH
X-WR-CALNAME:Northstar Christian Academy
X-ORIGINAL-URL:https://northstarknights.com
X-WR-CALDESC:Events for Northstar Christian Academy
REFRESH-INTERVAL;VALUE=DURATION:PT1H
X-Robots-Tag:noindex
X-PUBLISHED-TTL:PT1H
BEGIN:VTIMEZONE
TZID:America/Chicago
BEGIN:DAYLIGHT
TZOFFSETFROM:-0600
TZOFFSETTO:-0500
TZNAME:CDT
DTSTART:20220313T080000
END:DAYLIGHT
BEGIN:STANDARD
TZOFFSETFROM:-0500
TZOFFSETTO:-0600
TZNAME:CST
DTSTART:20221106T070000
END:STANDARD
BEGIN:DAYLIGHT
TZOFFSETFROM:-0600
TZOFFSETTO:-0500
TZNAME:CDT
DTSTART:20230312T080000
END:DAYLIGHT
BEGIN:STANDARD
TZOFFSETFROM:-0500
TZOFFSETTO:-0600
TZNAME:CST
DTSTART:20231105T070000
END:STANDARD
BEGIN:DAYLIGHT
TZOFFSETFROM:-0600
TZOFFSETTO:-0500
TZNAME:CDT
DTSTART:20240310T080000
END:DAYLIGHT
BEGIN:STANDARD
TZOFFSETFROM:-0500
TZOFFSETTO:-0600
TZNAME:CST
DTSTART:20241103T070000
END:STANDARD
END:VTIMEZONE
BEGIN:VEVENT
DTSTART;TZID=America/Chicago:20230204T103000
DTEND;TZID=America/Chicago:20230204T123000
DTSTAMP:20260425T101443
CREATED:20220903T205741Z
LAST-MODIFIED:20230217T205503Z
UID:15078-1675506600-1675513800@northstarknights.com
SUMMARY:16U Knights vs. Chicago Reapers
DESCRIPTION:W 2-1
URL:https://northstarknights.com/event/16u-knights-vs-chicago-reapers-3/
LOCATION:NorthStar Sports Complex\, 3888 Pioneer Rd SE\, Alexandria\, MN\, 56308\, United States
CATEGORIES:16U Northstar Knights Season Schedule
END:VEVENT
BEGIN:VEVENT
DTSTART;TZID=America/Chicago:20230205T033000
DTEND;TZID=America/Chicago:20230205T053000
DTSTAMP:20260425T101443
CREATED:20220903T205821Z
LAST-MODIFIED:20230217T205532Z
UID:15080-1675567800-1675575000@northstarknights.com
SUMMARY:16U Knights vs. Chicago Reapers
DESCRIPTION:L 3-4
URL:https://northstarknights.com/event/16u-knights-vs-chicago-reapers-4/
LOCATION:NorthStar Sports Complex\, 3888 Pioneer Rd SE\, Alexandria\, MN\, 56308\, United States
CATEGORIES:16U Northstar Knights Season Schedule
END:VEVENT
BEGIN:VEVENT
DTSTART;TZID=America/Chicago:20230209T120000
DTEND;TZID=America/Chicago:20230212T120000
DTSTAMP:20260425T101443
CREATED:20220903T210015Z
LAST-MODIFIED:20230217T205743Z
UID:15082-1675944000-1676203200@northstarknights.com
SUMMARY:16U Knights vs. South Hills Panthers (ESE Top 20 Challenge)
DESCRIPTION:L 1-4
URL:https://northstarknights.com/event/16u-knights-vs-tbd-ese-top-20-challenge/
LOCATION:ND
CATEGORIES:16U Northstar Knights Season Schedule
END:VEVENT
BEGIN:VEVENT
DTSTART;TZID=America/Chicago:20230210T040000
DTEND;TZID=America/Chicago:20230210T040000
DTSTAMP:20260425T101443
CREATED:20230217T205719Z
LAST-MODIFIED:20230217T210137Z
UID:15978-1676001600-1676001600@northstarknights.com
SUMMARY:16U Knights vs. Little Caesars (ESE Top 20 Challenge)
DESCRIPTION:L 0-4
URL:https://northstarknights.com/event/16u-knights-vs-little-caesars-ese-top-20-challenge/
LOCATION:ND
CATEGORIES:16U Northstar Knights Season Schedule
END:VEVENT
BEGIN:VEVENT
DTSTART;TZID=America/Chicago:20230210T120000
DTEND;TZID=America/Chicago:20230210T120000
DTSTAMP:20260425T101443
CREATED:20230217T205924Z
LAST-MODIFIED:20230217T210219Z
UID:15982-1676030400-1676030400@northstarknights.com
SUMMARY:16U Knights vs. Seacoast Performance Academy (ESE Top 20 Challenge)
DESCRIPTION:W 5-1
URL:https://northstarknights.com/event/16u-knights-vs-seacoast-performance-academy-ese-top-20-challenge/
LOCATION:ND
CATEGORIES:16U Northstar Knights Season Schedule
END:VEVENT
BEGIN:VEVENT
DTSTART;TZID=America/Chicago:20230211T120000
DTEND;TZID=America/Chicago:20230211T120000
DTSTAMP:20260425T101443
CREATED:20230217T210113Z
LAST-MODIFIED:20230217T210113Z
UID:15984-1676116800-1676116800@northstarknights.com
SUMMARY:16U Knights vs. Honeybaked (ESE Top 20 Challenge)
DESCRIPTION:W 7-4
URL:https://northstarknights.com/event/16u-knights-vs-honeybaked-ese-top-20-challenge/
LOCATION:ND
CATEGORIES:16U Northstar Knights Season Schedule
END:VEVENT
BEGIN:VEVENT
DTSTART;TZID=America/Chicago:20230212T033000
DTEND;TZID=America/Chicago:20230212T033000
DTSTAMP:20260425T101443
CREATED:20230217T210303Z
LAST-MODIFIED:20230217T210303Z
UID:15986-1676172600-1676172600@northstarknights.com
SUMMARY:16U Knights vs. South Hills Panthers (ESE Top 20 Challenge)
DESCRIPTION:L 1-3
URL:https://northstarknights.com/event/16u-knights-vs-south-hills-panthers-ese-top-20-challenge/
LOCATION:ND
CATEGORIES:16U Northstar Knights Season Schedule
END:VEVENT
BEGIN:VEVENT
DTSTART;TZID=America/Chicago:20230218T103000
DTEND;TZID=America/Chicago:20230218T123000
DTSTAMP:20260425T101443
CREATED:20220903T210143Z
LAST-MODIFIED:20220903T210143Z
UID:15084-1676716200-1676723400@northstarknights.com
SUMMARY:16U Knights vs. Northern Alberta Xtreme
DESCRIPTION:
URL:https://northstarknights.com/event/16u-knights-vs-northern-alberta-xtreme/
LOCATION:NorthStar Sports Complex\, 3888 Pioneer Rd SE\, Alexandria\, MN\, 56308\, United States
CATEGORIES:16U Northstar Knights Season Schedule
END:VEVENT
BEGIN:VEVENT
DTSTART;TZID=America/Chicago:20230219T033000
DTEND;TZID=America/Chicago:20230219T053000
DTSTAMP:20260425T101443
CREATED:20220903T210232Z
LAST-MODIFIED:20220903T210232Z
UID:15086-1676777400-1676784600@northstarknights.com
SUMMARY:16U Knights vs. Northern Alberta Xtreme
DESCRIPTION:
URL:https://northstarknights.com/event/16u-knights-vs-northern-alberta-xtreme-2/
LOCATION:NorthStar Sports Complex\, 3888 Pioneer Rd SE\, Alexandria\, MN\, 56308\, United States
CATEGORIES:16U Northstar Knights Season Schedule
END:VEVENT
BEGIN:VEVENT
DTSTART;TZID=America/Chicago:20230225T103000
DTEND;TZID=America/Chicago:20230225T123000
DTSTAMP:20260425T101443
CREATED:20220903T210426Z
LAST-MODIFIED:20220903T210426Z
UID:15088-1677321000-1677328200@northstarknights.com
SUMMARY:16U Knights vs. Boston Hockey Academy
DESCRIPTION:
URL:https://northstarknights.com/event/16u-knights-vs-boston-hockey-academy/
LOCATION:NorthStar Sports Complex\, 3888 Pioneer Rd SE\, Alexandria\, MN\, 56308\, United States
CATEGORIES:16U Northstar Knights Season Schedule
END:VEVENT
BEGIN:VEVENT
DTSTART;TZID=America/Chicago:20230226T093000
DTEND;TZID=America/Chicago:20230226T113000
DTSTAMP:20260425T101443
CREATED:20220903T210515Z
LAST-MODIFIED:20230902T075853Z
UID:15090-1677403800-1677411000@northstarknights.com
SUMMARY:16U Knights vs. Boston Hockey Academy
DESCRIPTION:
URL:https://northstarknights.com/event/16u-knights-vs-boston-hockey-academy-2/
LOCATION:NorthStar Sports Complex\, 3888 Pioneer Rd SE\, Alexandria\, MN\, 56308\, United States
CATEGORIES:16U Northstar Knights Season Schedule
END:VEVENT
END:VCALENDAR