BEGIN:VCALENDAR
VERSION:2.0
PRODID:-//Northstar Christian Academy - ECPv6.15.20//NONSGML v1.0//EN
CALSCALE:GREGORIAN
METHOD:PUBLISH
X-ORIGINAL-URL:https://northstarknights.com
X-WR-CALDESC:Events for Northstar Christian Academy
REFRESH-INTERVAL;VALUE=DURATION:PT1H
X-Robots-Tag:noindex
X-PUBLISHED-TTL:PT1H
BEGIN:VTIMEZONE
TZID:America/Chicago
BEGIN:DAYLIGHT
TZOFFSETFROM:-0600
TZOFFSETTO:-0500
TZNAME:CDT
DTSTART:20240310T080000
END:DAYLIGHT
BEGIN:STANDARD
TZOFFSETFROM:-0500
TZOFFSETTO:-0600
TZNAME:CST
DTSTART:20241103T070000
END:STANDARD
BEGIN:DAYLIGHT
TZOFFSETFROM:-0600
TZOFFSETTO:-0500
TZNAME:CDT
DTSTART:20250309T080000
END:DAYLIGHT
BEGIN:STANDARD
TZOFFSETFROM:-0500
TZOFFSETTO:-0600
TZNAME:CST
DTSTART:20251102T070000
END:STANDARD
BEGIN:DAYLIGHT
TZOFFSETFROM:-0600
TZOFFSETTO:-0500
TZNAME:CDT
DTSTART:20260308T080000
END:DAYLIGHT
BEGIN:STANDARD
TZOFFSETFROM:-0500
TZOFFSETTO:-0600
TZNAME:CST
DTSTART:20261101T070000
END:STANDARD
END:VTIMEZONE
BEGIN:VEVENT
DTSTART;TZID=America/Chicago:20250301T160000
DTEND;TZID=America/Chicago:20250301T180000
DTSTAMP:20260423T095958
CREATED:20240907T203854Z
LAST-MODIFIED:20240907T203854Z
UID:18486-1740844800-1740852000@northstarknights.com
SUMMARY:16U Knights vs. 16U Sioux Falls Power
DESCRIPTION:
URL:https://northstarknights.com/event/16u-knights-vs-16u-sioux-falls-power/
LOCATION:NorthStar Sports Complex\, 3888 Pioneer Rd SE\, Alexandria\, MN\, 56308\, United States
CATEGORIES:16U Northstar Knights Season Schedule
END:VEVENT
BEGIN:VEVENT
DTSTART;TZID=America/Chicago:20250302T090000
DTEND;TZID=America/Chicago:20250302T110000
DTSTAMP:20260423T095958
CREATED:20240907T204041Z
LAST-MODIFIED:20240907T204041Z
UID:18491-1740906000-1740913200@northstarknights.com
SUMMARY:16U Knights vs. 16U Sioux Falls Power
DESCRIPTION:
URL:https://northstarknights.com/event/16u-knights-vs-16u-sioux-falls-power-3/
LOCATION:NorthStar Sports Complex\, 3888 Pioneer Rd SE\, Alexandria\, MN\, 56308\, United States
CATEGORIES:16U Northstar Knights Season Schedule
END:VEVENT
BEGIN:VEVENT
DTSTART;TZID=America/Chicago:20250307T121500
DTEND;TZID=America/Chicago:20250307T141500
DTSTAMP:20260423T095958
CREATED:20240907T204503Z
LAST-MODIFIED:20240907T204949Z
UID:18497-1741349700-1741356900@northstarknights.com
SUMMARY:16U Knights vs. 16U South Kent Selects
DESCRIPTION:
URL:https://northstarknights.com/event/16u-knights-vs-16u-south-kent-selects/
LOCATION:Ralph Engelstad Arena\, One Ralph Engelstad Arena Dr\, Grand Forks\, ND\, 58203\, United States
CATEGORIES:16U Northstar Knights Season Schedule
END:VEVENT
BEGIN:VEVENT
DTSTART;TZID=America/Chicago:20250308T143000
DTEND;TZID=America/Chicago:20250308T163000
DTSTAMP:20260423T095958
CREATED:20240907T204618Z
LAST-MODIFIED:20240907T204850Z
UID:18500-1741444200-1741451400@northstarknights.com
SUMMARY:16U Knights vs. 16U South Kent Selects
DESCRIPTION:
URL:https://northstarknights.com/event/16u-knights-vs-16u-south-kent-selects-2/
LOCATION:Ralph Engelstad Arena\, One Ralph Engelstad Arena Dr\, Grand Forks\, ND\, 58203\, United States
CATEGORIES:16U Northstar Knights Season Schedule
END:VEVENT
BEGIN:VEVENT
DTSTART;TZID=America/Chicago:20250309T100000
DTEND;TZID=America/Chicago:20250309T120000
DTSTAMP:20260423T095958
CREATED:20240907T204731Z
LAST-MODIFIED:20240907T204747Z
UID:18503-1741514400-1741521600@northstarknights.com
SUMMARY:16U Knights vs. 16U South Kent Selects
DESCRIPTION:
URL:https://northstarknights.com/event/16u-knights-vs-16u-south-kent-selects-3/
LOCATION:Scheels Arena\, 5225 31st Ave. S\, Fargo\, ND\, 58104
CATEGORIES:16U Northstar Knights Season Schedule
END:VEVENT
END:VCALENDAR