BEGIN:VCALENDAR
VERSION:2.0
PRODID:-//Northstar Christian Academy - ECPv6.15.20//NONSGML v1.0//EN
CALSCALE:GREGORIAN
METHOD:PUBLISH
X-WR-CALNAME:Northstar Christian Academy
X-ORIGINAL-URL:https://northstarknights.com
X-WR-CALDESC:Events for Northstar Christian Academy
REFRESH-INTERVAL;VALUE=DURATION:PT1H
X-Robots-Tag:noindex
X-PUBLISHED-TTL:PT1H
BEGIN:VTIMEZONE
TZID:America/Chicago
BEGIN:DAYLIGHT
TZOFFSETFROM:-0600
TZOFFSETTO:-0500
TZNAME:CDT
DTSTART:20220313T080000
END:DAYLIGHT
BEGIN:STANDARD
TZOFFSETFROM:-0500
TZOFFSETTO:-0600
TZNAME:CST
DTSTART:20221106T070000
END:STANDARD
BEGIN:DAYLIGHT
TZOFFSETFROM:-0600
TZOFFSETTO:-0500
TZNAME:CDT
DTSTART:20230312T080000
END:DAYLIGHT
BEGIN:STANDARD
TZOFFSETFROM:-0500
TZOFFSETTO:-0600
TZNAME:CST
DTSTART:20231105T070000
END:STANDARD
BEGIN:DAYLIGHT
TZOFFSETFROM:-0600
TZOFFSETTO:-0500
TZNAME:CDT
DTSTART:20240310T080000
END:DAYLIGHT
BEGIN:STANDARD
TZOFFSETFROM:-0500
TZOFFSETTO:-0600
TZNAME:CST
DTSTART:20241103T070000
END:STANDARD
BEGIN:DAYLIGHT
TZOFFSETFROM:-0600
TZOFFSETTO:-0500
TZNAME:CDT
DTSTART:20250309T080000
END:DAYLIGHT
BEGIN:STANDARD
TZOFFSETFROM:-0500
TZOFFSETTO:-0600
TZNAME:CST
DTSTART:20251102T070000
END:STANDARD
END:VTIMEZONE
BEGIN:VEVENT
DTSTART;TZID=America/Chicago:20231021T131000
DTEND;TZID=America/Chicago:20231021T150000
DTSTAMP:20260425T063058
CREATED:20230731T201717Z
LAST-MODIFIED:20230902T064714Z
UID:16937-1697893800-1697900400@northstarknights.com
SUMMARY:16U Knights vs. Chicago Mission (Reapers Showcase)
DESCRIPTION:
URL:https://northstarknights.com/event/16u-knights-vs-chicago-mission/
LOCATION:Mt. Prospect Ice Arena\, 1501 Feehanville Dr\, Mt Prospect\, IL\, 60056\, United States
CATEGORIES:16U Northstar Knights Season Schedule
END:VEVENT
BEGIN:VEVENT
DTSTART;TZID=America/Chicago:20231022T080000
DTEND;TZID=America/Chicago:20231022T100000
DTSTAMP:20260425T063058
CREATED:20230731T201807Z
LAST-MODIFIED:20230902T064802Z
UID:16939-1697961600-1697968800@northstarknights.com
SUMMARY:16U Knights vs. Oakland Jr. Grizzlies (Reapers Showcase)
DESCRIPTION:
URL:https://northstarknights.com/event/16u-knights-vs-oakland-jr-grizzlies-4/
LOCATION:Mt. Prospect Ice Arena\, 1501 Feehanville Dr\, Mt Prospect\, IL\, 60056\, United States
CATEGORIES:16U Northstar Knights Season Schedule
END:VEVENT
BEGIN:VEVENT
DTSTART;TZID=America/Chicago:20231103T150000
DTEND;TZID=America/Chicago:20231103T170000
DTSTAMP:20260425T063058
CREATED:20230731T201943Z
LAST-MODIFIED:20230902T065621Z
UID:16941-1699023600-1699030800@northstarknights.com
SUMMARY:16U Knights vs. Rink Academy (Knights Showcase)
DESCRIPTION:
URL:https://northstarknights.com/event/16u-knights-vs-rink-academy-knights-showcase-2/
LOCATION:NorthStar Sports Complex\, 3888 Pioneer Rd SE\, Alexandria\, MN\, 56308\, United States
CATEGORIES:16U Northstar Knights Season Schedule
END:VEVENT
BEGIN:VEVENT
DTSTART;TZID=America/Chicago:20231104T100000
DTEND;TZID=America/Chicago:20231104T120000
DTSTAMP:20260425T063058
CREATED:20230731T202036Z
LAST-MODIFIED:20230902T065342Z
UID:16943-1699092000-1699099200@northstarknights.com
SUMMARY:16U Knights vs. Team Maryland (Knights Showcase)
DESCRIPTION:
URL:https://northstarknights.com/event/16u-knights-vs-team-maryland-knights-showcase/
LOCATION:NorthStar Sports Complex\, 3888 Pioneer Rd SE\, Alexandria\, MN\, 56308\, United States
CATEGORIES:16U Northstar Knights Season Schedule
END:VEVENT
BEGIN:VEVENT
DTSTART;TZID=America/Chicago:20231105T133000
DTEND;TZID=America/Chicago:20231105T153000
DTSTAMP:20260425T063058
CREATED:20230731T202138Z
LAST-MODIFIED:20230902T065314Z
UID:16945-1699191000-1699198200@northstarknights.com
SUMMARY:16U Knights vs. Des Moines Jr. Bucs (Knights Showcase)
DESCRIPTION:
URL:https://northstarknights.com/event/16u-knights-vs-des-moines-jr-bucs-knights-showcase/
LOCATION:NorthStar Sports Complex\, 3888 Pioneer Rd SE\, Alexandria\, MN\, 56308\, United States
CATEGORIES:16U Northstar Knights Season Schedule
END:VEVENT
BEGIN:VEVENT
DTSTART;TZID=America/Chicago:20231110T170000
DTEND;TZID=America/Chicago:20231110T190000
DTSTAMP:20260425T063058
CREATED:20230731T203121Z
LAST-MODIFIED:20230902T065716Z
UID:16947-1699635600-1699642800@northstarknights.com
SUMMARY:16U Knights vs. Shattuck St. Mary's
DESCRIPTION:
URL:https://northstarknights.com/event/16u-knights-vs-shattuck-st-marys/
LOCATION:Shattuck St. Mary’s Ice Arena\, 1000 Shumway Ave\, Fairibault\, MN\, 55021\, United States
CATEGORIES:16U Northstar Knights Season Schedule
END:VEVENT
BEGIN:VEVENT
DTSTART;TZID=America/Chicago:20231117T123000
DTEND;TZID=America/Chicago:20231117T143000
DTSTAMP:20260425T063058
CREATED:20230731T204355Z
LAST-MODIFIED:20230902T071657Z
UID:16953-1700224200-1700231400@northstarknights.com
SUMMARY:16U Knights vs. Prairie Hockey Academy
DESCRIPTION:
URL:https://northstarknights.com/event/16u-knights-vs-prairie-hockey-academy/
LOCATION:Ralph Engelstad Arena\, One Ralph Engelstad Arena Dr\, Grand Forks\, ND\, 58203\, United States
CATEGORIES:16U Northstar Knights Season Schedule
END:VEVENT
BEGIN:VEVENT
DTSTART;TZID=America/Chicago:20231118T103000
DTEND;TZID=America/Chicago:20231118T123000
DTSTAMP:20260425T063058
CREATED:20230731T204447Z
LAST-MODIFIED:20230902T071621Z
UID:16955-1700303400-1700310600@northstarknights.com
SUMMARY:16U Knights vs. Prairie Hockey Academy
DESCRIPTION:
URL:https://northstarknights.com/event/16u-knights-vs-prairie-hockey-academy-2/
LOCATION:Ralph Engelstad Arena\, One Ralph Engelstad Arena Dr\, Grand Forks\, ND\, 58203\, United States
CATEGORIES:16U Northstar Knights Season Schedule
END:VEVENT
BEGIN:VEVENT
DTSTART;VALUE=DATE:20231119
DTEND;VALUE=DATE:20231127
DTSTAMP:20260425T063058
CREATED:20231110T021304Z
LAST-MODIFIED:20231110T021304Z
UID:17580-1700352000-1701043199@northstarknights.com
SUMMARY:Knights Thanksgiving Break
DESCRIPTION:
URL:https://northstarknights.com/event/knights-thanksgiving-break/
LOCATION:NorthStar Sports Complex\, 3888 Pioneer Rd SE\, Alexandria\, MN\, 56308\, United States
CATEGORIES:16U Northstar Knights Season Schedule,18U Northstar Knights Season Schedule
END:VEVENT
BEGIN:VEVENT
DTSTART;TZID=America/Chicago:20231201T091500
DTEND;TZID=America/Chicago:20231201T111500
DTSTAMP:20260425T063058
CREATED:20230731T201452Z
LAST-MODIFIED:20231110T010102Z
UID:16933-1701422100-1701429300@northstarknights.com
SUMMARY:16U Knights vs. Long Island Gulls (USHL Cup)
DESCRIPTION:
URL:https://northstarknights.com/event/16u-knights-vs-ushl-cup/
LOCATION:Tim Hortons IcePlex\, 2700 Brighton-Henrietta Town Line Rd\, Rochester\, NY\, 14623\, United States
CATEGORIES:16U Northstar Knights Season Schedule
END:VEVENT
BEGIN:VEVENT
DTSTART;TZID=America/Chicago:20231202T111500
DTEND;TZID=America/Chicago:20231202T131500
DTSTAMP:20260425T063058
CREATED:20230731T204518Z
LAST-MODIFIED:20231110T010200Z
UID:16957-1701515700-1701522900@northstarknights.com
SUMMARY:16U Knights vs. Culver Academy (USHL Cup)
DESCRIPTION:
URL:https://northstarknights.com/event/16u-knights-vs-ushl-cup-2/
LOCATION:Tim Hortons IcePlex\, 2700 Brighton-Henrietta Town Line Rd\, Rochester\, NY\, 14623\, United States
CATEGORIES:16U Northstar Knights Season Schedule
END:VEVENT
BEGIN:VEVENT
DTSTART;TZID=America/Chicago:20231202T173000
DTEND;TZID=America/Chicago:20231202T193000
DTSTAMP:20260425T063058
CREATED:20231110T010259Z
LAST-MODIFIED:20231110T010259Z
UID:17576-1701538200-1701545400@northstarknights.com
SUMMARY:16U Knights vs. New Jersey Rockets (USHL Cup)
DESCRIPTION:
URL:https://northstarknights.com/event/16u-knights-vs-new-jersey-rockets-ushl-cup/
LOCATION:Tim Hortons IcePlex\, 2700 Brighton-Henrietta Town Line Rd\, Rochester\, NY\, 14623\, United States
CATEGORIES:16U Northstar Knights Season Schedule
END:VEVENT
BEGIN:VEVENT
DTSTART;VALUE=DATE:20231202
DTEND;VALUE=DATE:20231204
DTSTAMP:20260425T063058
CREATED:20230731T204541Z
LAST-MODIFIED:20231110T012031Z
UID:16959-1701558000-1701644399@northstarknights.com
SUMMARY:16U Knights vs. Consolation or Semi-Finals (USHL Cup)
DESCRIPTION:
URL:https://northstarknights.com/event/16u-knights-vs-ushl-cup-3/
LOCATION:TBD
CATEGORIES:16U Northstar Knights Season Schedule
END:VEVENT
BEGIN:VEVENT
DTSTART;TZID=America/Chicago:20231216T110000
DTEND;TZID=America/Chicago:20231216T130000
DTSTAMP:20260425T063058
CREATED:20230731T205319Z
LAST-MODIFIED:20230902T072844Z
UID:16965-1702724400-1702731600@northstarknights.com
SUMMARY:16U Knights vs. Rink Academy
DESCRIPTION:
URL:https://northstarknights.com/event/16u-knights-vs-rink-academy/
LOCATION:Rink Training Centre\, 57 South Landing Drive\, Oak Bluff\, Manitoba\, R0G 1N0\, Canada
CATEGORIES:16U Northstar Knights Season Schedule
END:VEVENT
BEGIN:VEVENT
DTSTART;TZID=America/Chicago:20231217T124500
DTEND;TZID=America/Chicago:20231217T143000
DTSTAMP:20260425T063058
CREATED:20230731T205545Z
LAST-MODIFIED:20231205T234936Z
UID:16968-1702817100-1702823400@northstarknights.com
SUMMARY:16U Knights vs. Rink Academy
DESCRIPTION:
URL:https://northstarknights.com/event/16u-knights-vs-rink-academy-2/
LOCATION:Rink Training Centre\, 57 South Landing Drive\, Oak Bluff\, Manitoba\, R0G 1N0\, Canada
CATEGORIES:16U Northstar Knights Season Schedule
END:VEVENT
BEGIN:VEVENT
DTSTART;VALUE=DATE:20231218
DTEND;VALUE=DATE:20240108
DTSTAMP:20260425T063058
CREATED:20231110T021457Z
LAST-MODIFIED:20231110T021457Z
UID:17582-1702857600-1704671999@northstarknights.com
SUMMARY:Knights Christmas Break
DESCRIPTION:
URL:https://northstarknights.com/event/knights-christmas-break/
LOCATION:NorthStar Sports Complex\, 3888 Pioneer Rd SE\, Alexandria\, MN\, 56308\, United States
CATEGORIES:16U Northstar Knights Season Schedule,18U Northstar Knights Season Schedule
END:VEVENT
BEGIN:VEVENT
DTSTART;TZID=America/Chicago:20240113T110000
DTEND;TZID=America/Chicago:20240113T130000
DTSTAMP:20260425T063058
CREATED:20230731T205643Z
LAST-MODIFIED:20231229T004928Z
UID:16970-1705143600-1705150800@northstarknights.com
SUMMARY:16U Knights vs. Chicago Reapers (Mission Invite)
DESCRIPTION:
URL:https://northstarknights.com/event/16u-knights-vs-chi-town-invitational/
LOCATION:Fifth Third Arena\, 1801 W Jackson Blvd\, Chicago\, IL\, 60612\, United States
CATEGORIES:16U Northstar Knights Season Schedule
END:VEVENT
BEGIN:VEVENT
DTSTART;TZID=America/Chicago:20240113T203500
DTEND;TZID=America/Chicago:20240113T223000
DTSTAMP:20260425T063058
CREATED:20230731T210223Z
LAST-MODIFIED:20231229T005121Z
UID:16974-1705178100-1705185000@northstarknights.com
SUMMARY:16U Knights vs. Madison Capitals (Mission Invite)
DESCRIPTION:
URL:https://northstarknights.com/event/16u-knights-vs-chi-town-invitational-3/
LOCATION:Fifth Third Arena\, 1801 W Jackson Blvd\, Chicago\, IL\, 60612\, United States
CATEGORIES:16U Northstar Knights Season Schedule
END:VEVENT
BEGIN:VEVENT
DTSTART;TZID=America/Chicago:20240114T184500
DTEND;TZID=America/Chicago:20240114T210000
DTSTAMP:20260425T063058
CREATED:20230731T210151Z
LAST-MODIFIED:20231229T005420Z
UID:16972-1705257900-1705266000@northstarknights.com
SUMMARY:16U Knights vs. Windy City Storm (Mission Invite)
DESCRIPTION:
URL:https://northstarknights.com/event/16u-knights-vs-windy-city-storm-mission-invite/
LOCATION:Fifth Third Arena\, 1801 W Jackson Blvd\, Chicago\, IL\, 60612\, United States
CATEGORIES:16U Northstar Knights Season Schedule
END:VEVENT
BEGIN:VEVENT
DTSTART;VALUE=DATE:20240115
DTEND;VALUE=DATE:20240116
DTSTAMP:20260425T063058
CREATED:20231229T005522Z
LAST-MODIFIED:20231229T005522Z
UID:17655-1705276800-1705363199@northstarknights.com
SUMMARY:16U Knights vs. TBD (Mission Invite)
DESCRIPTION:
URL:https://northstarknights.com/event/16u-knights-vs-tbd-mission-invite/
LOCATION:Fifth Third Arena\, 1801 W Jackson Blvd\, Chicago\, IL\, 60612\, United States
CATEGORIES:16U Northstar Knights Season Schedule
END:VEVENT
BEGIN:VEVENT
DTSTART;TZID=America/Chicago:20240119T110000
DTEND;TZID=America/Chicago:20240119T140000
DTSTAMP:20260425T063058
CREATED:20230731T210327Z
LAST-MODIFIED:20240119T043248Z
UID:16976-1705662000-1705672800@northstarknights.com
SUMMARY:16U Knights vs. Chicago Mission (Lancers Showcase)
DESCRIPTION:
URL:https://northstarknights.com/event/16u-knights-vs-lancers-showcase/
LOCATION:Ralston Arena\, 7300 Q Street\, Ralston\, Nebraska\, 68127\, United States
CATEGORIES:16U Northstar Knights Season Schedule
END:VEVENT
BEGIN:VEVENT
DTSTART;TZID=America/Chicago:20240120T153000
DTEND;TZID=America/Chicago:20240120T173000
DTSTAMP:20260425T063058
CREATED:20230731T210352Z
LAST-MODIFIED:20240119T044431Z
UID:16978-1705764600-1705771800@northstarknights.com
SUMMARY:16U Knights vs. Nashville Jr. Predators (Lancers Showcase)
DESCRIPTION:
URL:https://northstarknights.com/event/16u-knights-vs-lancers-showcase-2/
LOCATION:Ralston Arena\, 7300 Q Street\, Ralston\, Nebraska\, 68127\, United States
CATEGORIES:16U Northstar Knights Season Schedule
END:VEVENT
BEGIN:VEVENT
DTSTART;TZID=America/Chicago:20240121T111500
DTEND;TZID=America/Chicago:20240121T131500
DTSTAMP:20260425T063058
CREATED:20230731T210726Z
LAST-MODIFIED:20240119T044319Z
UID:16980-1705835700-1705842900@northstarknights.com
SUMMARY:16U Knights vs. Windy City Storm (Lancers Showcase)
DESCRIPTION:
URL:https://northstarknights.com/event/16u-knights-vs-lancers-showcase-3/
LOCATION:Ralston Arena\, 7300 Q Street\, Ralston\, Nebraska\, 68127\, United States
CATEGORIES:16U Northstar Knights Season Schedule
END:VEVENT
BEGIN:VEVENT
DTSTART;TZID=America/Chicago:20240127T090000
DTEND;TZID=America/Chicago:20240127T110000
DTSTAMP:20260425T063058
CREATED:20230731T210922Z
LAST-MODIFIED:20240119T044639Z
UID:16982-1706346000-1706353200@northstarknights.com
SUMMARY:16U Knights vs. Sioux Falls Power
DESCRIPTION:
URL:https://northstarknights.com/event/16u-knights-vs-maine-nordiques/
LOCATION:NorthStar Sports Complex\, 3888 Pioneer Rd SE\, Alexandria\, MN\, 56308\, United States
CATEGORIES:16U Northstar Knights Season Schedule
END:VEVENT
BEGIN:VEVENT
DTSTART;TZID=America/Chicago:20240202T163000
DTEND;TZID=America/Chicago:20240202T180000
DTSTAMP:20260425T063058
CREATED:20230731T212827Z
LAST-MODIFIED:20240125T011431Z
UID:16986-1706891400-1706896800@northstarknights.com
SUMMARY:16U Knights vs. Compuware
DESCRIPTION:
URL:https://northstarknights.com/event/16u-knights-vs-compuware-4/
LOCATION:USA Hockey Arena\, 14900 N Beck Rd\, Plymouth\, Michigan\, 48170
CATEGORIES:16U Northstar Knights Season Schedule
END:VEVENT
BEGIN:VEVENT
DTSTART;TZID=America/Chicago:20240203T113000
DTEND;TZID=America/Chicago:20240203T133000
DTSTAMP:20260425T063058
CREATED:20230801T025701Z
LAST-MODIFIED:20240130T234102Z
UID:16992-1706959800-1706967000@northstarknights.com
SUMMARY:16U Knights vs. Victory Honda
DESCRIPTION:
URL:https://northstarknights.com/event/16u-knights-vs-victory-honda/
LOCATION:USA Hockey Arena\, 14900 N Beck Rd\, Plymouth\, Michigan\, 48170
CATEGORIES:16U Northstar Knights Season Schedule
END:VEVENT
BEGIN:VEVENT
DTSTART;TZID=America/Chicago:20240204T080000
DTEND;TZID=America/Chicago:20240204T100000
DTSTAMP:20260425T063058
CREATED:20230801T025735Z
LAST-MODIFIED:20231101T004254Z
UID:16994-1707033600-1707040800@northstarknights.com
SUMMARY:16U Knights vs. Victory Honda
DESCRIPTION:
URL:https://northstarknights.com/event/16u-knights-vs-victory-honda-2/
LOCATION:USA Hockey Arena\, 14900 N Beck Rd\, Plymouth\, Michigan\, 48170
CATEGORIES:16U Northstar Knights Season Schedule
END:VEVENT
BEGIN:VEVENT
DTSTART;TZID=America/Chicago:20240208T170000
DTEND;TZID=America/Chicago:20240208T190000
DTSTAMP:20260425T063058
CREATED:20231002T193923Z
LAST-MODIFIED:20231031T210100Z
UID:17411-1707411600-1707418800@northstarknights.com
SUMMARY:16U Knights vs. Sioux Falls Power
DESCRIPTION:
URL:https://northstarknights.com/event/16u-knights-vs-sioux-falls-power-8/
LOCATION:NorthStar Sports Complex\, 3888 Pioneer Rd SE\, Alexandria\, MN\, 56308\, United States
CATEGORIES:16U Northstar Knights Season Schedule
END:VEVENT
BEGIN:VEVENT
DTSTART;TZID=America/Chicago:20240210T090000
DTEND;TZID=America/Chicago:20240210T110000
DTSTAMP:20260425T063058
CREATED:20230801T025857Z
LAST-MODIFIED:20240130T234331Z
UID:16996-1707555600-1707562800@northstarknights.com
SUMMARY:16U Knights vs. Oakmoor Patriots
DESCRIPTION:
URL:https://northstarknights.com/event/16u-knights-vs-des-moines-jr-bucs/
LOCATION:Metro Ice Sports Facility\, 5100 NW 72nd St\, Urbandale\, IA\, 50322\, United States
CATEGORIES:16U Northstar Knights Season Schedule
END:VEVENT
BEGIN:VEVENT
DTSTART;TZID=America/Chicago:20240211T083000
DTEND;TZID=America/Chicago:20240211T103000
DTSTAMP:20260425T063058
CREATED:20230801T025920Z
LAST-MODIFIED:20240207T222504Z
UID:16998-1707640200-1707647400@northstarknights.com
SUMMARY:16U Knights vs. Oakmoor Patriots
DESCRIPTION:
URL:https://northstarknights.com/event/16u-knights-vs-oakmoor-patriots/
LOCATION:Metro Ice Sports Facility\, 5100 NW 72nd St\, Urbandale\, IA\, 50322\, United States
CATEGORIES:16U Northstar Knights Season Schedule
END:VEVENT
END:VCALENDAR