BEGIN:VCALENDAR
VERSION:2.0
PRODID:-//Northstar Christian Academy - ECPv6.15.20//NONSGML v1.0//EN
CALSCALE:GREGORIAN
METHOD:PUBLISH
X-WR-CALNAME:Northstar Christian Academy
X-ORIGINAL-URL:https://northstarknights.com
X-WR-CALDESC:Events for Northstar Christian Academy
REFRESH-INTERVAL;VALUE=DURATION:PT1H
X-Robots-Tag:noindex
X-PUBLISHED-TTL:PT1H
BEGIN:VTIMEZONE
TZID:America/Chicago
BEGIN:DAYLIGHT
TZOFFSETFROM:-0600
TZOFFSETTO:-0500
TZNAME:CDT
DTSTART:20240310T080000
END:DAYLIGHT
BEGIN:STANDARD
TZOFFSETFROM:-0500
TZOFFSETTO:-0600
TZNAME:CST
DTSTART:20241103T070000
END:STANDARD
BEGIN:DAYLIGHT
TZOFFSETFROM:-0600
TZOFFSETTO:-0500
TZNAME:CDT
DTSTART:20250309T080000
END:DAYLIGHT
BEGIN:STANDARD
TZOFFSETFROM:-0500
TZOFFSETTO:-0600
TZNAME:CST
DTSTART:20251102T070000
END:STANDARD
BEGIN:DAYLIGHT
TZOFFSETFROM:-0600
TZOFFSETTO:-0500
TZNAME:CDT
DTSTART:20260308T080000
END:DAYLIGHT
BEGIN:STANDARD
TZOFFSETFROM:-0500
TZOFFSETTO:-0600
TZNAME:CST
DTSTART:20261101T070000
END:STANDARD
END:VTIMEZONE
BEGIN:VEVENT
DTSTART;TZID=America/Chicago:20250308T143000
DTEND;TZID=America/Chicago:20250308T163000
DTSTAMP:20260425T064437
CREATED:20240907T204618Z
LAST-MODIFIED:20240907T204850Z
UID:18500-1741444200-1741451400@northstarknights.com
SUMMARY:16U Knights vs. 16U South Kent Selects
DESCRIPTION:
URL:https://northstarknights.com/event/16u-knights-vs-16u-south-kent-selects-2/
LOCATION:Ralph Engelstad Arena\, One Ralph Engelstad Arena Dr\, Grand Forks\, ND\, 58203\, United States
CATEGORIES:16U Northstar Knights Season Schedule
END:VEVENT
BEGIN:VEVENT
DTSTART;TZID=America/Chicago:20250309T100000
DTEND;TZID=America/Chicago:20250309T120000
DTSTAMP:20260425T064437
CREATED:20240907T204731Z
LAST-MODIFIED:20240907T204747Z
UID:18503-1741514400-1741521600@northstarknights.com
SUMMARY:16U Knights vs. 16U South Kent Selects
DESCRIPTION:
URL:https://northstarknights.com/event/16u-knights-vs-16u-south-kent-selects-3/
LOCATION:Scheels Arena\, 5225 31st Ave. S\, Fargo\, ND\, 58104
CATEGORIES:16U Northstar Knights Season Schedule
END:VEVENT
BEGIN:VEVENT
DTSTART;TZID=America/Chicago:20250508T170000
DTEND;TZID=America/Chicago:20250508T200000
DTSTAMP:20260425T064437
CREATED:20250418T223116Z
LAST-MODIFIED:20250418T223116Z
UID:19786-1746723600-1746734400@northstarknights.com
SUMMARY:Knights End of Year Banquet
DESCRIPTION:
URL:https://northstarknights.com/event/knights-end-of-year-banquet/
CATEGORIES:16U Northstar Knights Season Schedule,18U Northstar Knights Season Schedule
END:VEVENT
BEGIN:VEVENT
DTSTART;VALUE=DATE:20250602
DTEND;VALUE=DATE:20250808
DTSTAMP:20260425T064437
CREATED:20250418T223733Z
LAST-MODIFIED:20250418T223733Z
UID:19790-1748822400-1754611199@northstarknights.com
SUMMARY:Knights Summer Training Program
DESCRIPTION:Mondays – Thursdays (Invite Only)
URL:https://northstarknights.com/event/knights-summer-training-program/
LOCATION:NorthStar Sports Complex\, 3888 Pioneer Rd SE\, Alexandria\, MN\, 56308\, United States
CATEGORIES:16U Northstar Knights Season Schedule,18U Northstar Knights Season Schedule
END:VEVENT
BEGIN:VEVENT
DTSTART;VALUE=DATE:20250624
DTEND;VALUE=DATE:20250627
DTSTAMP:20260425T064437
CREATED:20250418T223946Z
LAST-MODIFIED:20250418T223946Z
UID:19792-1750723200-1750982399@northstarknights.com
SUMMARY:Knights Development Camp
DESCRIPTION:Invite Only
URL:https://northstarknights.com/event/knights-development-camp/
LOCATION:NorthStar Sports Complex\, 3888 Pioneer Rd SE\, Alexandria\, MN\, 56308\, United States
CATEGORIES:16U Northstar Knights Season Schedule
END:VEVENT
BEGIN:VEVENT
DTSTART;VALUE=DATE:20250905
DTEND;VALUE=DATE:20250908
DTSTAMP:20260425T064437
CREATED:20250418T222653Z
LAST-MODIFIED:20250418T222653Z
UID:19784-1757030400-1757289599@northstarknights.com
SUMMARY:Knights Welcome Weekend
DESCRIPTION:
URL:https://northstarknights.com/event/knights-welcome-weekend-2/
LOCATION:NorthStar Sports Complex\, 3888 Pioneer Rd SE\, Alexandria\, MN\, 56308\, United States
CATEGORIES:16U Northstar Knights Season Schedule,18U Northstar Knights Season Schedule
END:VEVENT
BEGIN:VEVENT
DTSTART;TZID=America/Chicago:20250912T160000
DTEND;TZID=America/Chicago:20250912T180000
DTSTAMP:20260425T064437
CREATED:20250628T203124Z
LAST-MODIFIED:20250628T203223Z
UID:20027-1757692800-1757700000@northstarknights.com
SUMMARY:16U Knights vs. Frisk Asker NTG
DESCRIPTION:
URL:https://northstarknights.com/event/16u-knights-vs-frisk-asker-ntg/
LOCATION:NorthStar Sports Complex\, 3888 Pioneer Rd SE\, Alexandria\, MN\, 56308\, United States
CATEGORIES:16U Northstar Knights Season Schedule
END:VEVENT
BEGIN:VEVENT
DTSTART;TZID=America/Chicago:20250913T090000
DTEND;TZID=America/Chicago:20250913T110000
DTSTAMP:20260425T064437
CREATED:20250628T203329Z
LAST-MODIFIED:20250628T203329Z
UID:20029-1757754000-1757761200@northstarknights.com
SUMMARY:16U Knights vs. Frisk Asker NTG
DESCRIPTION:
URL:https://northstarknights.com/event/16u-knights-vs-frisk-asker-ntg-2/
LOCATION:NorthStar Sports Complex\, 3888 Pioneer Rd SE\, Alexandria\, MN\, 56308\, United States
CATEGORIES:16U Northstar Knights Season Schedule
END:VEVENT
BEGIN:VEVENT
DTSTART;TZID=America/Chicago:20250916T193000
DTEND;TZID=America/Chicago:20250916T213000
DTSTAMP:20260425T064437
CREATED:20250629T225746Z
LAST-MODIFIED:20250913T213408Z
UID:20033-1758051000-1758058200@northstarknights.com
SUMMARY:16U Knights vs. United Hockey
DESCRIPTION:
URL:https://northstarknights.com/event/16u-knights-vs-uha/
LOCATION:Brooklyn Park Ice Arena\, 5600 85th Ave N\, Brooklyn Park\, MN\, 55443\, United States
CATEGORIES:16U Northstar Knights Season Schedule
END:VEVENT
BEGIN:VEVENT
DTSTART;TZID=America/Chicago:20250921T100000
DTEND;TZID=America/Chicago:20250921T123000
DTSTAMP:20260425T064437
CREATED:20250629T230123Z
LAST-MODIFIED:20250918T163418Z
UID:20037-1758448800-1758457800@northstarknights.com
SUMMARY:16U Knights vs. MN Lakers
DESCRIPTION:
URL:https://northstarknights.com/event/16u-knights-vs-mn-blades-6/
LOCATION:NorthStar Sports Complex\, 3888 Pioneer Rd SE\, Alexandria\, MN\, 56308\, United States
CATEGORIES:16U Northstar Knights Season Schedule
END:VEVENT
BEGIN:VEVENT
DTSTART;TZID=America/Chicago:20250925T160000
DTEND;TZID=America/Chicago:20250925T180000
DTSTAMP:20260425T064437
CREATED:20250629T230255Z
LAST-MODIFIED:20250912T182619Z
UID:20039-1758816000-1758823200@northstarknights.com
SUMMARY:16U Knights vs. Chicago Mission (Blades Showcase)
DESCRIPTION:
URL:https://northstarknights.com/event/16u-knights-vs-blades-showcase-4/
LOCATION:Brooklyn Park Ice Arena\, 5600 85th Ave N\, Brooklyn Park\, MN\, 55443\, United States
CATEGORIES:16U Northstar Knights Season Schedule
END:VEVENT
BEGIN:VEVENT
DTSTART;TZID=America/Chicago:20250926T100000
DTEND;TZID=America/Chicago:20250926T120000
DTSTAMP:20260425T064437
CREATED:20250629T230414Z
LAST-MODIFIED:20250912T182729Z
UID:20041-1758880800-1758888000@northstarknights.com
SUMMARY:16U Knights vs. St. Louis Jr. Blues (Blades Showcase)
DESCRIPTION:
URL:https://northstarknights.com/event/16u-knights-vs-blades-showcase-5/
LOCATION:Brooklyn Park Ice Arena\, 5600 85th Ave N\, Brooklyn Park\, MN\, 55443\, United States
CATEGORIES:16U Northstar Knights Season Schedule
END:VEVENT
BEGIN:VEVENT
DTSTART;TZID=America/Chicago:20250927T140000
DTEND;TZID=America/Chicago:20250927T160000
DTSTAMP:20260425T064437
CREATED:20250629T230441Z
LAST-MODIFIED:20250912T182833Z
UID:20042-1758981600-1758988800@northstarknights.com
SUMMARY:16U Knights vs. Chicago Reapers (Blades Showcase)
DESCRIPTION:
URL:https://northstarknights.com/event/16u-knights-vs-blades-showcase-6/
LOCATION:Brooklyn Park Ice Arena\, 5600 85th Ave N\, Brooklyn Park\, MN\, 55443\, United States
CATEGORIES:16U Northstar Knights Season Schedule
END:VEVENT
BEGIN:VEVENT
DTSTART;TZID=America/Chicago:20251003T130000
DTEND;TZID=America/Chicago:20251003T150000
DTSTAMP:20260425T064437
CREATED:20250629T230655Z
LAST-MODIFIED:20250912T182951Z
UID:20045-1759496400-1759503600@northstarknights.com
SUMMARY:16U Knights vs. Rink Academy (Force Showcase)
DESCRIPTION:
URL:https://northstarknights.com/event/16u-knights-vs-force-showcase-4/
LOCATION:Scheels Arena\, 5225 31st Ave. S\, Fargo\, ND\, 58104
CATEGORIES:16U Northstar Knights Season Schedule
END:VEVENT
BEGIN:VEVENT
DTSTART;TZID=America/Chicago:20251003T201500
DTEND;TZID=America/Chicago:20251003T221500
DTSTAMP:20260425T064437
CREATED:20250912T183222Z
LAST-MODIFIED:20250912T183222Z
UID:20272-1759522500-1759529700@northstarknights.com
SUMMARY:16U Knights vs. North Shore Wings (Force Showcase)
DESCRIPTION:
URL:https://northstarknights.com/event/16u-knights-vs-north-shore-wings-force-showcase/
LOCATION:Scheels Arena\, 5225 31st Ave. S\, Fargo\, ND\, 58104
CATEGORIES:16U Northstar Knights Season Schedule
END:VEVENT
BEGIN:VEVENT
DTSTART;TZID=America/Chicago:20251004T124500
DTEND;TZID=America/Chicago:20251004T144500
DTSTAMP:20260425T064437
CREATED:20250629T230834Z
LAST-MODIFIED:20250912T183338Z
UID:20047-1759581900-1759589100@northstarknights.com
SUMMARY:16U Knights vs. Rocky Mountain Roughriders (Force Showcase)
DESCRIPTION:
URL:https://northstarknights.com/event/16u-knights-vs-force-showcase-5/
LOCATION:Scheels Arena\, 5225 31st Ave. S\, Fargo\, ND\, 58104
CATEGORIES:16U Northstar Knights Season Schedule
END:VEVENT
BEGIN:VEVENT
DTSTART;TZID=America/Chicago:20251005T100000
DTEND;TZID=America/Chicago:20251005T120000
DTSTAMP:20260425T064437
CREATED:20250629T230905Z
LAST-MODIFIED:20250912T183621Z
UID:20048-1759658400-1759665600@northstarknights.com
SUMMARY:16U Knights vs. Nashville Jr. Predators (Force Showcase)
DESCRIPTION:
URL:https://northstarknights.com/event/16u-knights-vs-force-showcase-6/
LOCATION:Scheels Arena\, 5225 31st Ave. S\, Fargo\, ND\, 58104
CATEGORIES:16U Northstar Knights Season Schedule
END:VEVENT
BEGIN:VEVENT
DTSTART;VALUE=DATE:20251011
DTEND;VALUE=DATE:20251013
DTSTAMP:20260425T064437
CREATED:20250521T030433Z
LAST-MODIFIED:20250521T030433Z
UID:19910-1760140800-1760313599@northstarknights.com
SUMMARY:Off Weekend
DESCRIPTION:
URL:https://northstarknights.com/event/off-weekend/
CATEGORIES:16U Northstar Knights Season Schedule,18U Northstar Knights Season Schedule
END:VEVENT
BEGIN:VEVENT
DTSTART;TZID=America/Chicago:20251018T150000
DTEND;TZID=America/Chicago:20251018T170000
DTSTAMP:20260425T064437
CREATED:20250629T231222Z
LAST-MODIFIED:20250629T231222Z
UID:20051-1760799600-1760806800@northstarknights.com
SUMMARY:16U Knights vs. Hawkeye Hockey
DESCRIPTION:
URL:https://northstarknights.com/event/16u-knights-vs-hawkeye-hockey/
LOCATION:NorthStar Sports Complex\, 3888 Pioneer Rd SE\, Alexandria\, MN\, 56308\, United States
CATEGORIES:16U Northstar Knights Season Schedule
END:VEVENT
BEGIN:VEVENT
DTSTART;TZID=America/Chicago:20251019T090000
DTEND;TZID=America/Chicago:20251019T113000
DTSTAMP:20260425T064437
CREATED:20250629T231326Z
LAST-MODIFIED:20250629T231326Z
UID:20053-1760864400-1760873400@northstarknights.com
SUMMARY:16U Knights vs. Hawkeye Hockey
DESCRIPTION:
URL:https://northstarknights.com/event/16u-knights-vs-hawkeye-hockey-2/
LOCATION:NorthStar Sports Complex\, 3888 Pioneer Rd SE\, Alexandria\, MN\, 56308\, United States
CATEGORIES:16U Northstar Knights Season Schedule
END:VEVENT
BEGIN:VEVENT
DTSTART;TZID=America/Chicago:20251024T110000
DTEND;TZID=America/Chicago:20251024T130000
DTSTAMP:20260425T064437
CREATED:20251007T194335Z
LAST-MODIFIED:20251007T194335Z
UID:20444-1761303600-1761310800@northstarknights.com
SUMMARY:16U Knights vs. Phoenix Jr. Coyotes (Elite League Showcase)
DESCRIPTION:
URL:https://northstarknights.com/event/16u-knights-vs-phoenix-jr-coyotes-elite-league-showcase/
LOCATION:Scheels Ice Plex\, 4300 N Bobhalla Dr\, Sioux Falls\, SD\, 57107\, United States
CATEGORIES:16U Northstar Knights Season Schedule
END:VEVENT
BEGIN:VEVENT
DTSTART;TZID=America/Chicago:20251024T191500
DTEND;TZID=America/Chicago:20251024T210000
DTSTAMP:20260425T064437
CREATED:20250629T231422Z
LAST-MODIFIED:20251007T194056Z
UID:20055-1761333300-1761339600@northstarknights.com
SUMMARY:16U Knights vs. Anaheim Jr. Ducks (Elite League Showcase)
DESCRIPTION:
URL:https://northstarknights.com/event/16u-knights-vs-elite-league-showcase/
LOCATION:Scheels Ice Plex\, 4300 N Bobhalla Dr\, Sioux Falls\, SD\, 57107\, United States
CATEGORIES:16U Northstar Knights Season Schedule
END:VEVENT
BEGIN:VEVENT
DTSTART;TZID=America/Chicago:20251025T130000
DTEND;TZID=America/Chicago:20251025T150000
DTSTAMP:20260425T064437
CREATED:20250629T231549Z
LAST-MODIFIED:20251007T194422Z
UID:20057-1761397200-1761404400@northstarknights.com
SUMMARY:16U Knights vs. Dallas Jr. Stars (Elite League Showcase)
DESCRIPTION:
URL:https://northstarknights.com/event/16u-knights-vs-elite-league-showcase-2/
LOCATION:Scheels Ice Plex\, 4300 N Bobhalla Dr\, Sioux Falls\, SD\, 57107\, United States
CATEGORIES:16U Northstar Knights Season Schedule
END:VEVENT
BEGIN:VEVENT
DTSTART;TZID=America/Chicago:20251026T121500
DTEND;TZID=America/Chicago:20251026T141500
DTSTAMP:20260425T064437
CREATED:20250629T231704Z
LAST-MODIFIED:20251007T194530Z
UID:20059-1761480900-1761488100@northstarknights.com
SUMMARY:16U Knights vs. Team Alaska (Elite League Showcase)
DESCRIPTION:
URL:https://northstarknights.com/event/16u-knights-vs-elite-league-showcase-3/
LOCATION:Scheels Ice Plex\, 4300 N Bobhalla Dr\, Sioux Falls\, SD\, 57107\, United States
CATEGORIES:16U Northstar Knights Season Schedule
END:VEVENT
BEGIN:VEVENT
DTSTART;TZID=America/Chicago:20251101T150000
DTEND;TZID=America/Chicago:20251101T170000
DTSTAMP:20260425T064437
CREATED:20250629T232049Z
LAST-MODIFIED:20251029T211321Z
UID:20061-1762009200-1762016400@northstarknights.com
SUMMARY:16U Knights vs. MN Lakers
DESCRIPTION:
URL:https://northstarknights.com/event/16u-knights-vs-mn-lakers-3/
LOCATION:NorthStar Sports Complex\, 3888 Pioneer Rd SE\, Alexandria\, MN\, 56308\, United States
CATEGORIES:16U Northstar Knights Season Schedule
END:VEVENT
BEGIN:VEVENT
DTSTART;TZID=America/Chicago:20251102T100000
DTEND;TZID=America/Chicago:20251102T120000
DTSTAMP:20260425T064437
CREATED:20250629T232338Z
LAST-MODIFIED:20251029T211350Z
UID:20063-1762077600-1762084800@northstarknights.com
SUMMARY:16U Knights vs. MN Lakers
DESCRIPTION:
URL:https://northstarknights.com/event/16u-knights-vs-mn-lakers-4/
LOCATION:NorthStar Sports Complex\, 3888 Pioneer Rd SE\, Alexandria\, MN\, 56308\, United States
CATEGORIES:16U Northstar Knights Season Schedule
END:VEVENT
BEGIN:VEVENT
DTSTART;TZID=America/Chicago:20251107T120000
DTEND;TZID=America/Chicago:20251107T140000
DTSTAMP:20260425T064437
CREATED:20250629T232534Z
LAST-MODIFIED:20250629T232534Z
UID:20065-1762516800-1762524000@northstarknights.com
SUMMARY:16U Knights vs. Nichols Prep
DESCRIPTION:
URL:https://northstarknights.com/event/16u-knights-vs-nichols-prep-3/
LOCATION:NorthStar Sports Complex\, 3888 Pioneer Rd SE\, Alexandria\, MN\, 56308\, United States
CATEGORIES:16U Northstar Knights Season Schedule
END:VEVENT
BEGIN:VEVENT
DTSTART;TZID=America/Chicago:20251108T120000
DTEND;TZID=America/Chicago:20251108T140000
DTSTAMP:20260425T064437
CREATED:20250629T232801Z
LAST-MODIFIED:20250629T232801Z
UID:20068-1762603200-1762610400@northstarknights.com
SUMMARY:16U Knights vs. Nichols Prep
DESCRIPTION:
URL:https://northstarknights.com/event/16u-knights-vs-nichols-prep-4/
LOCATION:NorthStar Sports Complex\, 3888 Pioneer Rd SE\, Alexandria\, MN\, 56308\, United States
CATEGORIES:16U Northstar Knights Season Schedule
END:VEVENT
BEGIN:VEVENT
DTSTART;TZID=America/Chicago:20251109T081500
DTEND;TZID=America/Chicago:20251109T101500
DTSTAMP:20260425T064437
CREATED:20250629T232843Z
LAST-MODIFIED:20250629T232843Z
UID:20067-1762676100-1762683300@northstarknights.com
SUMMARY:16U Knights vs. Nichols Prep
DESCRIPTION:
URL:https://northstarknights.com/event/16u-knights-vs-nichols-prep-5/
LOCATION:NorthStar Sports Complex\, 3888 Pioneer Rd SE\, Alexandria\, MN\, 56308\, United States
CATEGORIES:16U Northstar Knights Season Schedule
END:VEVENT
BEGIN:VEVENT
DTSTART;TZID=America/Chicago:20251114T120000
DTEND;TZID=America/Chicago:20251114T140000
DTSTAMP:20260425T064437
CREATED:20250629T233057Z
LAST-MODIFIED:20250629T233057Z
UID:20071-1763121600-1763128800@northstarknights.com
SUMMARY:16U Knights vs. Sioux Falls Power
DESCRIPTION:
URL:https://northstarknights.com/event/16u-knights-vs-sioux-falls-power-5/
LOCATION:Herb Brooks National Hockey Center\, 1204 4th Ave South\, St. Cloud\, MN\, 56301\, United States
CATEGORIES:16U Northstar Knights Season Schedule
END:VEVENT
END:VCALENDAR