BEGIN:VCALENDAR
VERSION:2.0
PRODID:-//Northstar Christian Academy - ECPv6.15.20//NONSGML v1.0//EN
CALSCALE:GREGORIAN
METHOD:PUBLISH
X-WR-CALNAME:Northstar Christian Academy
X-ORIGINAL-URL:https://northstarknights.com
X-WR-CALDESC:Events for Northstar Christian Academy
REFRESH-INTERVAL;VALUE=DURATION:PT1H
X-Robots-Tag:noindex
X-PUBLISHED-TTL:PT1H
BEGIN:VTIMEZONE
TZID:America/Chicago
BEGIN:DAYLIGHT
TZOFFSETFROM:-0600
TZOFFSETTO:-0500
TZNAME:CDT
DTSTART:20240310T080000
END:DAYLIGHT
BEGIN:STANDARD
TZOFFSETFROM:-0500
TZOFFSETTO:-0600
TZNAME:CST
DTSTART:20241103T070000
END:STANDARD
BEGIN:DAYLIGHT
TZOFFSETFROM:-0600
TZOFFSETTO:-0500
TZNAME:CDT
DTSTART:20250309T080000
END:DAYLIGHT
BEGIN:STANDARD
TZOFFSETFROM:-0500
TZOFFSETTO:-0600
TZNAME:CST
DTSTART:20251102T070000
END:STANDARD
BEGIN:DAYLIGHT
TZOFFSETFROM:-0600
TZOFFSETTO:-0500
TZNAME:CDT
DTSTART:20260308T080000
END:DAYLIGHT
BEGIN:STANDARD
TZOFFSETFROM:-0500
TZOFFSETTO:-0600
TZNAME:CST
DTSTART:20261101T070000
END:STANDARD
BEGIN:DAYLIGHT
TZOFFSETFROM:-0600
TZOFFSETTO:-0500
TZNAME:CDT
DTSTART:20270314T080000
END:DAYLIGHT
BEGIN:STANDARD
TZOFFSETFROM:-0500
TZOFFSETTO:-0600
TZNAME:CST
DTSTART:20271107T070000
END:STANDARD
END:VTIMEZONE
BEGIN:VEVENT
DTSTART;TZID=America/Chicago:20251005T100000
DTEND;TZID=America/Chicago:20251005T120000
DTSTAMP:20260421T204720
CREATED:20250629T230905Z
LAST-MODIFIED:20250912T183621Z
UID:20048-1759658400-1759665600@northstarknights.com
SUMMARY:16U Knights vs. Nashville Jr. Predators (Force Showcase)
DESCRIPTION:
URL:https://northstarknights.com/event/16u-knights-vs-force-showcase-6/
LOCATION:Scheels Arena\, 5225 31st Ave. S\, Fargo\, ND\, 58104
CATEGORIES:16U Northstar Knights Season Schedule
END:VEVENT
BEGIN:VEVENT
DTSTART;VALUE=DATE:20251011
DTEND;VALUE=DATE:20251013
DTSTAMP:20260421T204720
CREATED:20250521T030433Z
LAST-MODIFIED:20250521T030433Z
UID:19910-1760140800-1760313599@northstarknights.com
SUMMARY:Off Weekend
DESCRIPTION:
URL:https://northstarknights.com/event/off-weekend/
CATEGORIES:16U Northstar Knights Season Schedule,18U Northstar Knights Season Schedule
END:VEVENT
BEGIN:VEVENT
DTSTART;TZID=America/Chicago:20251018T150000
DTEND;TZID=America/Chicago:20251018T170000
DTSTAMP:20260421T204720
CREATED:20250629T231222Z
LAST-MODIFIED:20250629T231222Z
UID:20051-1760799600-1760806800@northstarknights.com
SUMMARY:16U Knights vs. Hawkeye Hockey
DESCRIPTION:
URL:https://northstarknights.com/event/16u-knights-vs-hawkeye-hockey/
LOCATION:NorthStar Sports Complex\, 3888 Pioneer Rd SE\, Alexandria\, MN\, 56308\, United States
CATEGORIES:16U Northstar Knights Season Schedule
END:VEVENT
BEGIN:VEVENT
DTSTART;TZID=America/Chicago:20251019T090000
DTEND;TZID=America/Chicago:20251019T113000
DTSTAMP:20260421T204720
CREATED:20250629T231326Z
LAST-MODIFIED:20250629T231326Z
UID:20053-1760864400-1760873400@northstarknights.com
SUMMARY:16U Knights vs. Hawkeye Hockey
DESCRIPTION:
URL:https://northstarknights.com/event/16u-knights-vs-hawkeye-hockey-2/
LOCATION:NorthStar Sports Complex\, 3888 Pioneer Rd SE\, Alexandria\, MN\, 56308\, United States
CATEGORIES:16U Northstar Knights Season Schedule
END:VEVENT
BEGIN:VEVENT
DTSTART;TZID=America/Chicago:20251024T110000
DTEND;TZID=America/Chicago:20251024T130000
DTSTAMP:20260421T204720
CREATED:20251007T194335Z
LAST-MODIFIED:20251007T194335Z
UID:20444-1761303600-1761310800@northstarknights.com
SUMMARY:16U Knights vs. Phoenix Jr. Coyotes (Elite League Showcase)
DESCRIPTION:
URL:https://northstarknights.com/event/16u-knights-vs-phoenix-jr-coyotes-elite-league-showcase/
LOCATION:Scheels Ice Plex\, 4300 N Bobhalla Dr\, Sioux Falls\, SD\, 57107\, United States
CATEGORIES:16U Northstar Knights Season Schedule
END:VEVENT
BEGIN:VEVENT
DTSTART;TZID=America/Chicago:20251024T191500
DTEND;TZID=America/Chicago:20251024T210000
DTSTAMP:20260421T204720
CREATED:20250629T231422Z
LAST-MODIFIED:20251007T194056Z
UID:20055-1761333300-1761339600@northstarknights.com
SUMMARY:16U Knights vs. Anaheim Jr. Ducks (Elite League Showcase)
DESCRIPTION:
URL:https://northstarknights.com/event/16u-knights-vs-elite-league-showcase/
LOCATION:Scheels Ice Plex\, 4300 N Bobhalla Dr\, Sioux Falls\, SD\, 57107\, United States
CATEGORIES:16U Northstar Knights Season Schedule
END:VEVENT
BEGIN:VEVENT
DTSTART;TZID=America/Chicago:20251025T130000
DTEND;TZID=America/Chicago:20251025T150000
DTSTAMP:20260421T204720
CREATED:20250629T231549Z
LAST-MODIFIED:20251007T194422Z
UID:20057-1761397200-1761404400@northstarknights.com
SUMMARY:16U Knights vs. Dallas Jr. Stars (Elite League Showcase)
DESCRIPTION:
URL:https://northstarknights.com/event/16u-knights-vs-elite-league-showcase-2/
LOCATION:Scheels Ice Plex\, 4300 N Bobhalla Dr\, Sioux Falls\, SD\, 57107\, United States
CATEGORIES:16U Northstar Knights Season Schedule
END:VEVENT
BEGIN:VEVENT
DTSTART;TZID=America/Chicago:20251026T121500
DTEND;TZID=America/Chicago:20251026T141500
DTSTAMP:20260421T204720
CREATED:20250629T231704Z
LAST-MODIFIED:20251007T194530Z
UID:20059-1761480900-1761488100@northstarknights.com
SUMMARY:16U Knights vs. Team Alaska (Elite League Showcase)
DESCRIPTION:
URL:https://northstarknights.com/event/16u-knights-vs-elite-league-showcase-3/
LOCATION:Scheels Ice Plex\, 4300 N Bobhalla Dr\, Sioux Falls\, SD\, 57107\, United States
CATEGORIES:16U Northstar Knights Season Schedule
END:VEVENT
BEGIN:VEVENT
DTSTART;TZID=America/Chicago:20251101T150000
DTEND;TZID=America/Chicago:20251101T170000
DTSTAMP:20260421T204720
CREATED:20250629T232049Z
LAST-MODIFIED:20251029T211321Z
UID:20061-1762009200-1762016400@northstarknights.com
SUMMARY:16U Knights vs. MN Lakers
DESCRIPTION:
URL:https://northstarknights.com/event/16u-knights-vs-mn-lakers-3/
LOCATION:NorthStar Sports Complex\, 3888 Pioneer Rd SE\, Alexandria\, MN\, 56308\, United States
CATEGORIES:16U Northstar Knights Season Schedule
END:VEVENT
BEGIN:VEVENT
DTSTART;TZID=America/Chicago:20251102T100000
DTEND;TZID=America/Chicago:20251102T120000
DTSTAMP:20260421T204720
CREATED:20250629T232338Z
LAST-MODIFIED:20251029T211350Z
UID:20063-1762077600-1762084800@northstarknights.com
SUMMARY:16U Knights vs. MN Lakers
DESCRIPTION:
URL:https://northstarknights.com/event/16u-knights-vs-mn-lakers-4/
LOCATION:NorthStar Sports Complex\, 3888 Pioneer Rd SE\, Alexandria\, MN\, 56308\, United States
CATEGORIES:16U Northstar Knights Season Schedule
END:VEVENT
BEGIN:VEVENT
DTSTART;TZID=America/Chicago:20251107T120000
DTEND;TZID=America/Chicago:20251107T140000
DTSTAMP:20260421T204720
CREATED:20250629T232534Z
LAST-MODIFIED:20250629T232534Z
UID:20065-1762516800-1762524000@northstarknights.com
SUMMARY:16U Knights vs. Nichols Prep
DESCRIPTION:
URL:https://northstarknights.com/event/16u-knights-vs-nichols-prep-3/
LOCATION:NorthStar Sports Complex\, 3888 Pioneer Rd SE\, Alexandria\, MN\, 56308\, United States
CATEGORIES:16U Northstar Knights Season Schedule
END:VEVENT
BEGIN:VEVENT
DTSTART;TZID=America/Chicago:20251108T120000
DTEND;TZID=America/Chicago:20251108T140000
DTSTAMP:20260421T204720
CREATED:20250629T232801Z
LAST-MODIFIED:20250629T232801Z
UID:20068-1762603200-1762610400@northstarknights.com
SUMMARY:16U Knights vs. Nichols Prep
DESCRIPTION:
URL:https://northstarknights.com/event/16u-knights-vs-nichols-prep-4/
LOCATION:NorthStar Sports Complex\, 3888 Pioneer Rd SE\, Alexandria\, MN\, 56308\, United States
CATEGORIES:16U Northstar Knights Season Schedule
END:VEVENT
BEGIN:VEVENT
DTSTART;TZID=America/Chicago:20251109T081500
DTEND;TZID=America/Chicago:20251109T101500
DTSTAMP:20260421T204720
CREATED:20250629T232843Z
LAST-MODIFIED:20250629T232843Z
UID:20067-1762676100-1762683300@northstarknights.com
SUMMARY:16U Knights vs. Nichols Prep
DESCRIPTION:
URL:https://northstarknights.com/event/16u-knights-vs-nichols-prep-5/
LOCATION:NorthStar Sports Complex\, 3888 Pioneer Rd SE\, Alexandria\, MN\, 56308\, United States
CATEGORIES:16U Northstar Knights Season Schedule
END:VEVENT
BEGIN:VEVENT
DTSTART;TZID=America/Chicago:20251114T120000
DTEND;TZID=America/Chicago:20251114T140000
DTSTAMP:20260421T204720
CREATED:20250629T233057Z
LAST-MODIFIED:20250629T233057Z
UID:20071-1763121600-1763128800@northstarknights.com
SUMMARY:16U Knights vs. Sioux Falls Power
DESCRIPTION:
URL:https://northstarknights.com/event/16u-knights-vs-sioux-falls-power-5/
LOCATION:Herb Brooks National Hockey Center\, 1204 4th Ave South\, St. Cloud\, MN\, 56301\, United States
CATEGORIES:16U Northstar Knights Season Schedule
END:VEVENT
BEGIN:VEVENT
DTSTART;TZID=America/Chicago:20251121T112000
DTEND;TZID=America/Chicago:20251121T133000
DTSTAMP:20260421T204720
CREATED:20250629T233303Z
LAST-MODIFIED:20251113T184338Z
UID:20073-1763724000-1763731800@northstarknights.com
SUMMARY:16U Knights vs. Mid Fairfield Rangers (NEPACK Showcase)
DESCRIPTION:
URL:https://northstarknights.com/event/16u-knights-vs-nepack-showcase/
LOCATION:UPMC Lemieux Sports Complex\, 8000 Cranberry Springs Drive\, Cranberry Township\, PA\, 16066\, United States
CATEGORIES:16U Northstar Knights Season Schedule
END:VEVENT
BEGIN:VEVENT
DTSTART;TZID=America/Chicago:20251122T103000
DTEND;TZID=America/Chicago:20251122T123000
DTSTAMP:20260421T204720
CREATED:20250629T233442Z
LAST-MODIFIED:20251113T184554Z
UID:20076-1763807400-1763814600@northstarknights.com
SUMMARY:16U Knights vs. New Jersey Rockets (NEPACK Showcase)
DESCRIPTION:
URL:https://northstarknights.com/event/16u-knights-vs-nepack-showcase-2/
LOCATION:Robert Morris University Island Sports Center\, 7600 Grand Ave\, Pittsburgh\, PA\, 15225\, United States
CATEGORIES:16U Northstar Knights Season Schedule
END:VEVENT
BEGIN:VEVENT
DTSTART;TZID=America/Chicago:20251123T100000
DTEND;TZID=America/Chicago:20251123T120000
DTSTAMP:20260421T204720
CREATED:20250629T233514Z
LAST-MODIFIED:20251113T184700Z
UID:20075-1763892000-1763899200@northstarknights.com
SUMMARY:16U Knights vs. WB/S Knights (NEPACK Showcase)
DESCRIPTION:
URL:https://northstarknights.com/event/16u-knights-vs-nepack-showcase-3/
LOCATION:Robert Morris University Island Sports Center\, 7600 Grand Ave\, Pittsburgh\, PA\, 15225\, United States
CATEGORIES:16U Northstar Knights Season Schedule
END:VEVENT
BEGIN:VEVENT
DTSTART;VALUE=DATE:20251124
DTEND;VALUE=DATE:20251201
DTSTAMP:20260421T204720
CREATED:20250418T224229Z
LAST-MODIFIED:20250418T224229Z
UID:19794-1763942400-1764547199@northstarknights.com
SUMMARY:Knights Thanksgiving Break
DESCRIPTION:
URL:https://northstarknights.com/event/knights-thanksgiving-break-2/
CATEGORIES:16U Northstar Knights Season Schedule,18U Northstar Knights Season Schedule
END:VEVENT
BEGIN:VEVENT
DTSTART;TZID=America/Chicago:20251205T193000
DTEND;TZID=America/Chicago:20251205T210000
DTSTAMP:20260421T204720
CREATED:20250629T233654Z
LAST-MODIFIED:20251203T165800Z
UID:20079-1764963000-1764968400@northstarknights.com
SUMMARY:16U Knights vs. Seventh Fire (Rink Academy Showcase)
DESCRIPTION:
URL:https://northstarknights.com/event/16u-knights-vs-rink-academy-showcase/
LOCATION:Rink Training Centre\, 57 South Landing Drive\, Oak Bluff\, Manitoba\, R0G 1N0\, Canada
CATEGORIES:16U Northstar Knights Season Schedule
END:VEVENT
BEGIN:VEVENT
DTSTART;TZID=America/Chicago:20251206T160000
DTEND;TZID=America/Chicago:20251206T173000
DTSTAMP:20260421T204720
CREATED:20250629T233742Z
LAST-MODIFIED:20251203T164429Z
UID:20081-1765036800-1765042200@northstarknights.com
SUMMARY:16U Knights vs. Rink Academy (Rink Academy Showcase)
DESCRIPTION:
URL:https://northstarknights.com/event/16u-knights-vs-rink-academy-showcase-2/
LOCATION:Rink Training Centre\, 57 South Landing Drive\, Oak Bluff\, Manitoba\, R0G 1N0\, Canada
CATEGORIES:16U Northstar Knights Season Schedule
END:VEVENT
BEGIN:VEVENT
DTSTART;TZID=America/Chicago:20251207T124500
DTEND;TZID=America/Chicago:20251207T143000
DTSTAMP:20260421T204720
CREATED:20250629T233825Z
LAST-MODIFIED:20251203T165859Z
UID:20083-1765111500-1765117800@northstarknights.com
SUMMARY:16U Knights vs. Shattuck St. Mary's (Rink Academy Showcase)
DESCRIPTION:
URL:https://northstarknights.com/event/16u-knights-vs-rink-academy-showcase-3/
LOCATION:Rink Training Centre\, 57 South Landing Drive\, Oak Bluff\, Manitoba\, R0G 1N0\, Canada
CATEGORIES:16U Northstar Knights Season Schedule
END:VEVENT
BEGIN:VEVENT
DTSTART;TZID=America/Chicago:20251209T140000
DTEND;TZID=America/Chicago:20251209T160000
DTSTAMP:20260421T204720
CREATED:20251209T183026Z
LAST-MODIFIED:20251209T183026Z
UID:20731-1765288800-1765296000@northstarknights.com
SUMMARY:16U Knights vs. Rink Academy
DESCRIPTION:
URL:https://northstarknights.com/event/16u-knights-vs-rink-academy-3/
LOCATION:Ralph Engelstad Arena\, One Ralph Engelstad Arena Dr\, Grand Forks\, ND\, 58203\, United States
CATEGORIES:16U Northstar Knights Season Schedule
END:VEVENT
BEGIN:VEVENT
DTSTART;TZID=America/Chicago:20251213T150000
DTEND;TZID=America/Chicago:20251213T170000
DTSTAMP:20260421T204720
CREATED:20250629T235014Z
LAST-MODIFIED:20251029T205937Z
UID:20085-1765638000-1765645200@northstarknights.com
SUMMARY:16U Knights vs. Pilot Mound
DESCRIPTION:
URL:https://northstarknights.com/event/16u-knights-vs-pilot-mound/
LOCATION:NorthStar Sports Complex\, 3888 Pioneer Rd SE\, Alexandria\, MN\, 56308\, United States
CATEGORIES:16U Northstar Knights Season Schedule
END:VEVENT
BEGIN:VEVENT
DTSTART;TZID=America/Chicago:20251214T100000
DTEND;TZID=America/Chicago:20251214T120000
DTSTAMP:20260421T204720
CREATED:20250629T235742Z
LAST-MODIFIED:20251029T205822Z
UID:20087-1765706400-1765713600@northstarknights.com
SUMMARY:16U Knights vs. Pilot Mound
DESCRIPTION:
URL:https://northstarknights.com/event/16u-knights-vs-pilot-mound-2/
LOCATION:NorthStar Sports Complex\, 3888 Pioneer Rd SE\, Alexandria\, MN\, 56308\, United States
CATEGORIES:16U Northstar Knights Season Schedule
END:VEVENT
BEGIN:VEVENT
DTSTART;TZID=America/Chicago:20251219T150000
DTEND;TZID=America/Chicago:20251219T170000
DTSTAMP:20260421T204720
CREATED:20250630T000127Z
LAST-MODIFIED:20251029T210110Z
UID:20089-1766156400-1766163600@northstarknights.com
SUMMARY:16U Knights vs. Madison Capitols
DESCRIPTION:
URL:https://northstarknights.com/event/16u-knights-vs-madison-capitols/
LOCATION:NorthStar Sports Complex\, 3888 Pioneer Rd SE\, Alexandria\, MN\, 56308\, United States
CATEGORIES:16U Northstar Knights Season Schedule
END:VEVENT
BEGIN:VEVENT
DTSTART;TZID=America/Chicago:20251220T090000
DTEND;TZID=America/Chicago:20251220T110000
DTSTAMP:20260421T204720
CREATED:20250630T000232Z
LAST-MODIFIED:20251209T173543Z
UID:20091-1766221200-1766228400@northstarknights.com
SUMMARY:16U Knights vs. Madison Capitols
DESCRIPTION:
URL:https://northstarknights.com/event/16u-knights-vs-madison-capitols-2/
LOCATION:NorthStar Sports Complex\, 3888 Pioneer Rd SE\, Alexandria\, MN\, 56308\, United States
CATEGORIES:16U Northstar Knights Season Schedule
END:VEVENT
BEGIN:VEVENT
DTSTART;VALUE=DATE:20251221
DTEND;VALUE=DATE:20260112
DTSTAMP:20260421T204720
CREATED:20250418T224407Z
LAST-MODIFIED:20251209T182417Z
UID:19798-1766275200-1768175999@northstarknights.com
SUMMARY:Knights Christmas Break
DESCRIPTION:
URL:https://northstarknights.com/event/knights-christmas-break-2/
CATEGORIES:16U Northstar Knights Season Schedule,18U Northstar Knights Season Schedule
END:VEVENT
BEGIN:VEVENT
DTSTART;TZID=America/Chicago:20260116T160000
DTEND;TZID=America/Chicago:20260116T173000
DTSTAMP:20260421T204720
CREATED:20250630T001503Z
LAST-MODIFIED:20260102T172102Z
UID:20093-1768579200-1768584600@northstarknights.com
SUMMARY:16U Knights vs. Oakland Jr. Grizzlies (Chicago Mission Invitational)
DESCRIPTION:
URL:https://northstarknights.com/event/16u-knights-vs-chicago-mission-invitational/
LOCATION:Fifth Third Arena\, 1801 W Jackson Blvd\, Chicago\, IL\, 60612\, United States
CATEGORIES:16U Northstar Knights Season Schedule
END:VEVENT
BEGIN:VEVENT
DTSTART;TZID=America/Chicago:20260117T124000
DTEND;TZID=America/Chicago:20260117T143000
DTSTAMP:20260421T204720
CREATED:20250630T001633Z
LAST-MODIFIED:20260102T172201Z
UID:20095-1768653600-1768660200@northstarknights.com
SUMMARY:16U Knights vs. Team Illinois (Chicago Mission Invitational)
DESCRIPTION:
URL:https://northstarknights.com/event/16u-knights-vs-chicago-mission-invitational-2/
LOCATION:Fifth Third Arena\, 1801 W Jackson Blvd\, Chicago\, IL\, 60612\, United States
CATEGORIES:16U Northstar Knights Season Schedule
END:VEVENT
BEGIN:VEVENT
DTSTART;TZID=America/Chicago:20260118T113000
DTEND;TZID=America/Chicago:20260118T133000
DTSTAMP:20260421T204720
CREATED:20250630T001713Z
LAST-MODIFIED:20260102T172306Z
UID:20096-1768735800-1768743000@northstarknights.com
SUMMARY:16U Knights vs. Chicago Reapers (Chicago Mission Invitational)
DESCRIPTION:
URL:https://northstarknights.com/event/16u-knights-vs-chicago-mission-invitational-3/
LOCATION:Fifth Third Arena\, 1801 W Jackson Blvd\, Chicago\, IL\, 60612\, United States
CATEGORIES:16U Northstar Knights Season Schedule
END:VEVENT
END:VCALENDAR