BEGIN:VCALENDAR
VERSION:2.0
PRODID:-//Northstar Christian Academy - ECPv6.15.20//NONSGML v1.0//EN
CALSCALE:GREGORIAN
METHOD:PUBLISH
X-WR-CALNAME:Northstar Christian Academy
X-ORIGINAL-URL:https://northstarknights.com
X-WR-CALDESC:Events for Northstar Christian Academy
REFRESH-INTERVAL;VALUE=DURATION:PT1H
X-Robots-Tag:noindex
X-PUBLISHED-TTL:PT1H
BEGIN:VTIMEZONE
TZID:America/Chicago
BEGIN:DAYLIGHT
TZOFFSETFROM:-0600
TZOFFSETTO:-0500
TZNAME:CDT
DTSTART:20200308T080000
END:DAYLIGHT
BEGIN:STANDARD
TZOFFSETFROM:-0500
TZOFFSETTO:-0600
TZNAME:CST
DTSTART:20201101T070000
END:STANDARD
BEGIN:DAYLIGHT
TZOFFSETFROM:-0600
TZOFFSETTO:-0500
TZNAME:CDT
DTSTART:20210314T080000
END:DAYLIGHT
BEGIN:STANDARD
TZOFFSETFROM:-0500
TZOFFSETTO:-0600
TZNAME:CST
DTSTART:20211107T070000
END:STANDARD
BEGIN:DAYLIGHT
TZOFFSETFROM:-0600
TZOFFSETTO:-0500
TZNAME:CDT
DTSTART:20220313T080000
END:DAYLIGHT
BEGIN:STANDARD
TZOFFSETFROM:-0500
TZOFFSETTO:-0600
TZNAME:CST
DTSTART:20221106T070000
END:STANDARD
END:VTIMEZONE
BEGIN:VEVENT
DTSTART;TZID=America/Chicago:20211106T080000
DTEND;TZID=America/Chicago:20211106T080000
DTSTAMP:20260422T062742
CREATED:20211221T005724Z
LAST-MODIFIED:20220209T210658Z
UID:451-1636185600-1636185600@northstarknights.com
SUMMARY:U16 Northstar Knights vs Carshield
DESCRIPTION:(OTW 4-3)
URL:https://northstarknights.com/event/u16-northstar-knights-vs-carshield-4/
LOCATION:St. Peters Rec-Plex\, 5200 Mexico Rd\, St. Peters\, MO\, 63376\, United States
CATEGORIES:16U Northstar Knights Season Schedule
END:VEVENT
BEGIN:VEVENT
DTSTART;TZID=America/Chicago:20211107T023000
DTEND;TZID=America/Chicago:20211107T023000
DTSTAMP:20260422T062742
CREATED:20211221T005517Z
LAST-MODIFIED:20220209T210740Z
UID:449-1636252200-1636252200@northstarknights.com
SUMMARY:U16 Northstar Knights vs Carshield
DESCRIPTION:(OTL 2-3)
URL:https://northstarknights.com/event/u16-northstar-knights-vs-carshield-3/
LOCATION:St. Peters Rec-Plex\, 5200 Mexico Rd\, St. Peters\, MO\, 63376\, United States
CATEGORIES:16U Northstar Knights Season Schedule
END:VEVENT
BEGIN:VEVENT
DTSTART;TZID=America/Chicago:20211107T050000
DTEND;TZID=America/Chicago:20211107T050000
DTSTAMP:20260422T062742
CREATED:20211221T005402Z
LAST-MODIFIED:20220209T211421Z
UID:446-1636261200-1636261200@northstarknights.com
SUMMARY:U18 Northstar Knights vs Carshield
DESCRIPTION:(W 3-0)
URL:https://northstarknights.com/event/u18-northstar-knights-vs-carshield-3/
LOCATION:St. Peters Rec-Plex\, 5200 Mexico Rd\, St. Peters\, MO\, 63376\, United States
CATEGORIES:18U Northstar Knights Season Schedule
END:VEVENT
BEGIN:VEVENT
DTSTART;TZID=America/Chicago:20211112T110000
DTEND;TZID=America/Chicago:20211112T110000
DTSTAMP:20260422T062742
CREATED:20211221T004858Z
LAST-MODIFIED:20220209T210840Z
UID:444-1636714800-1636714800@northstarknights.com
SUMMARY:U16 Northstar Knights vs Shattuck St. Mary's
DESCRIPTION:(L 2-7)
URL:https://northstarknights.com/event/u16-northstar-knights-vs-shattuck-st-marys/
LOCATION:NorthStar Sports Complex\, 3888 Pioneer Rd SE\, Alexandria\, MN\, 56308\, United States
CATEGORIES:16U Northstar Knights Season Schedule
END:VEVENT
BEGIN:VEVENT
DTSTART;TZID=America/Chicago:20211112T130000
DTEND;TZID=America/Chicago:20211112T130000
DTSTAMP:20260422T062742
CREATED:20211221T004510Z
LAST-MODIFIED:20220209T211444Z
UID:441-1636722000-1636722000@northstarknights.com
SUMMARY:U18 Northstar Knights vs Shattuck St. Mary's
DESCRIPTION:(L 2-4)
URL:https://northstarknights.com/event/u18-northstar-knights-vs-shattuck-st-marys/
LOCATION:Shattuck St. Mary’s Ice Arena\, 1000 Shumway Ave\, Fairibault\, MN\, 55021\, United States
CATEGORIES:18U Northstar Knights Season Schedule
END:VEVENT
BEGIN:VEVENT
DTSTART;TZID=America/Chicago:20211113T110000
DTEND;TZID=America/Chicago:20211113T110000
DTSTAMP:20260422T062742
CREATED:20211221T004235Z
LAST-MODIFIED:20220209T211218Z
UID:439-1636801200-1636801200@northstarknights.com
SUMMARY:U16 Northstar Knights vs Windy City Storm
DESCRIPTION:(OTL 1-2)
URL:https://northstarknights.com/event/u16-northstar-knights-vs-windy-city-storm-2/
LOCATION:NorthStar Sports Complex\, 3888 Pioneer Rd SE\, Alexandria\, MN\, 56308\, United States
CATEGORIES:16U Northstar Knights Season Schedule
END:VEVENT
BEGIN:VEVENT
DTSTART;TZID=America/Chicago:20211113T133000
DTEND;TZID=America/Chicago:20211113T133000
DTSTAMP:20260422T062742
CREATED:20211221T004028Z
LAST-MODIFIED:20220209T211622Z
UID:437-1636810200-1636810200@northstarknights.com
SUMMARY:U18 Northstar Knights vs Windy City Storm
DESCRIPTION:(W 7-2)
URL:https://northstarknights.com/event/u18-northstar-knights-vs-windy-city-storm-2/
LOCATION:NorthStar Sports Complex\, 3888 Pioneer Rd SE\, Alexandria\, MN\, 56308\, United States
CATEGORIES:18U Northstar Knights Season Schedule
END:VEVENT
BEGIN:VEVENT
DTSTART;TZID=America/Chicago:20211114T033000
DTEND;TZID=America/Chicago:20211114T033000
DTSTAMP:20260422T062742
CREATED:20211221T003825Z
LAST-MODIFIED:20220209T211259Z
UID:435-1636860600-1636860600@northstarknights.com
SUMMARY:U16 Northstar Knights vs Windy City Storm
DESCRIPTION:(W 3-0)
URL:https://northstarknights.com/event/u16-northstar-knights-vs-windy-city-storm/
LOCATION:NorthStar Sports Complex\, 3888 Pioneer Rd SE\, Alexandria\, MN\, 56308\, United States
CATEGORIES:16U Northstar Knights Season Schedule
END:VEVENT
BEGIN:VEVENT
DTSTART;TZID=America/Chicago:20211114T060000
DTEND;TZID=America/Chicago:20211114T060000
DTSTAMP:20260422T062742
CREATED:20211221T003659Z
LAST-MODIFIED:20220209T211335Z
UID:433-1636869600-1636869600@northstarknights.com
SUMMARY:U18 Northstar Knights vs Windy City Storm
DESCRIPTION:(W 10-0)
URL:https://northstarknights.com/event/u18-northstar-knights-vs-windy-city-storm/
LOCATION:NorthStar Sports Complex\, 3888 Pioneer Rd SE\, Alexandria\, MN\, 56308\, United States
CATEGORIES:18U Northstar Knights Season Schedule
END:VEVENT
BEGIN:VEVENT
DTSTART;TZID=America/Chicago:20211119T050000
DTEND;TZID=America/Chicago:20211119T050000
DTSTAMP:20260422T062742
CREATED:20211221T003107Z
LAST-MODIFIED:20220209T211521Z
UID:431-1637298000-1637298000@northstarknights.com
SUMMARY:U18 Northstar Knights vs Nichols Prep (Knights Showcase)
DESCRIPTION:(W 6-3)
URL:https://northstarknights.com/event/u18-northstar-knights-vs-nichols-prep-knights-showcase/
LOCATION:NorthStar Sports Complex\, 3888 Pioneer Rd SE\, Alexandria\, MN\, 56308\, United States
CATEGORIES:18U Northstar Knights Season Schedule
END:VEVENT
BEGIN:VEVENT
DTSTART;TZID=America/Chicago:20211119T073000
DTEND;TZID=America/Chicago:20211119T073000
DTSTAMP:20260422T062742
CREATED:20211221T002705Z
LAST-MODIFIED:20220209T211645Z
UID:429-1637307000-1637307000@northstarknights.com
SUMMARY:U16 Northstar Knights vs Sioux Falls Power (Knights Showcase)
DESCRIPTION:(W 5-0)
URL:https://northstarknights.com/event/u16-northstar-knights-vs-sioux-falls-power-knights-showcase-2/
LOCATION:NorthStar Sports Complex\, 3888 Pioneer Rd SE\, Alexandria\, MN\, 56308\, United States
CATEGORIES:16U Northstar Knights Season Schedule
END:VEVENT
BEGIN:VEVENT
DTSTART;TZID=America/Chicago:20211120T050000
DTEND;TZID=America/Chicago:20211120T050000
DTSTAMP:20260422T062742
CREATED:20211221T002247Z
LAST-MODIFIED:20220209T211717Z
UID:427-1637384400-1637384400@northstarknights.com
SUMMARY:U18 Northstar Knights vs Seacoast Academy (Knights Showcase)
DESCRIPTION:(W 8-2)
URL:https://northstarknights.com/event/u18-northstar-knights-vs-seacoast-academy-knights-showcase/
LOCATION:NorthStar Sports Complex\, 3888 Pioneer Rd SE\, Alexandria\, MN\, 56308\, United States
CATEGORIES:18U Northstar Knights Season Schedule
END:VEVENT
BEGIN:VEVENT
DTSTART;TZID=America/Chicago:20211120T073000
DTEND;TZID=America/Chicago:20211120T073000
DTSTAMP:20260422T062742
CREATED:20211221T002113Z
LAST-MODIFIED:20220209T211742Z
UID:425-1637393400-1637393400@northstarknights.com
SUMMARY:U16 Northstar Knights vs Green Bay Jr. Gamblers (Knights Showcase)
DESCRIPTION:(W 4-1)
URL:https://northstarknights.com/event/u16-northstar-knights-vs-green-bay-jr-gamblers-knights-showcase/
LOCATION:NorthStar Sports Complex\, 3888 Pioneer Rd SE\, Alexandria\, MN\, 56308\, United States
CATEGORIES:16U Northstar Knights Season Schedule
END:VEVENT
BEGIN:VEVENT
DTSTART;TZID=America/Chicago:20211121T093000
DTEND;TZID=America/Chicago:20211121T093000
DTSTAMP:20260422T062742
CREATED:20211221T001611Z
LAST-MODIFIED:20220209T211909Z
UID:421-1637487000-1637487000@northstarknights.com
SUMMARY:U16 Northstar Knights vs Maine Nordiques (Knights Showcase)
DESCRIPTION:(W 4-1)
URL:https://northstarknights.com/event/u16-northstar-knights-vs-maine-nordiques-knights-showcase/
LOCATION:NorthStar Sports Complex\, 3888 Pioneer Rd SE\, Alexandria\, MN\, 56308\, United States
CATEGORIES:16U Northstar Knights Season Schedule
END:VEVENT
END:VCALENDAR