BEGIN:VCALENDAR
VERSION:2.0
PRODID:-//Northstar Christian Academy - ECPv6.15.20//NONSGML v1.0//EN
CALSCALE:GREGORIAN
METHOD:PUBLISH
X-ORIGINAL-URL:https://northstarknights.com
X-WR-CALDESC:Events for Northstar Christian Academy
REFRESH-INTERVAL;VALUE=DURATION:PT1H
X-Robots-Tag:noindex
X-PUBLISHED-TTL:PT1H
BEGIN:VTIMEZONE
TZID:America/Chicago
BEGIN:DAYLIGHT
TZOFFSETFROM:-0600
TZOFFSETTO:-0500
TZNAME:CDT
DTSTART:20210314T080000
END:DAYLIGHT
BEGIN:STANDARD
TZOFFSETFROM:-0500
TZOFFSETTO:-0600
TZNAME:CST
DTSTART:20211107T070000
END:STANDARD
BEGIN:DAYLIGHT
TZOFFSETFROM:-0600
TZOFFSETTO:-0500
TZNAME:CDT
DTSTART:20220313T080000
END:DAYLIGHT
BEGIN:STANDARD
TZOFFSETFROM:-0500
TZOFFSETTO:-0600
TZNAME:CST
DTSTART:20221106T070000
END:STANDARD
BEGIN:DAYLIGHT
TZOFFSETFROM:-0600
TZOFFSETTO:-0500
TZNAME:CDT
DTSTART:20230312T080000
END:DAYLIGHT
BEGIN:STANDARD
TZOFFSETFROM:-0500
TZOFFSETTO:-0600
TZNAME:CST
DTSTART:20231105T070000
END:STANDARD
END:VTIMEZONE
BEGIN:VEVENT
DTSTART;TZID=America/Chicago:20220204T070000
DTEND;TZID=America/Chicago:20220204T070000
DTSTAMP:20260419T215952
CREATED:20211220T230605Z
LAST-MODIFIED:20220301T202507Z
UID:368-1643958000-1643958000@northstarknights.com
SUMMARY:U16 Northstar Knights vs Des Moines Jr. Buccaneers
DESCRIPTION:(W 4-0)
URL:https://northstarknights.com/event/u16-northstar-knights-vs-des-moines-jr-buccaneers-2/
LOCATION:Metro Ice Sports Facility\, 5100 NW 72nd St\, Urbandale\, IA\, 50322\, United States
CATEGORIES:16U Northstar Knights Season Schedule
END:VEVENT
BEGIN:VEVENT
DTSTART;TZID=America/Chicago:20220204T100000
DTEND;TZID=America/Chicago:20220204T100000
DTSTAMP:20260419T215952
CREATED:20211220T230312Z
LAST-MODIFIED:20220210T045749Z
UID:366-1643968800-1643968800@northstarknights.com
SUMMARY:U18 Northstar Knights vs Des Moines Jr. Buccaneers
DESCRIPTION:(W 8-1)
URL:https://northstarknights.com/event/u18-northstar-knights-vs-des-moines-jr-buccaneers-2/
LOCATION:Metro Ice Sports Facility\, 5100 NW 72nd St\, Urbandale\, IA\, 50322\, United States
CATEGORIES:18U Northstar Knights Season Schedule
END:VEVENT
BEGIN:VEVENT
DTSTART;TZID=America/Chicago:20220205T030000
DTEND;TZID=America/Chicago:20220205T030000
DTSTAMP:20260419T215952
CREATED:20211220T230212Z
LAST-MODIFIED:20220209T205440Z
UID:364-1644030000-1644030000@northstarknights.com
SUMMARY:U16 Northstar Knights vs Des Moines Jr. Buccaneers
DESCRIPTION:(W 6-0)
URL:https://northstarknights.com/event/u16-northstar-knights-vs-des-moines-jr-buccaneers/
LOCATION:Metro Ice Sports Facility\, 5100 NW 72nd St\, Urbandale\, IA\, 50322\, United States
CATEGORIES:16U Northstar Knights Season Schedule
END:VEVENT
BEGIN:VEVENT
DTSTART;TZID=America/Chicago:20220205T053000
DTEND;TZID=America/Chicago:20220205T053000
DTSTAMP:20260419T215952
CREATED:20211220T230104Z
LAST-MODIFIED:20220210T045910Z
UID:361-1644039000-1644039000@northstarknights.com
SUMMARY:U18 Northstar Knights vs Des Moines Jr. Buccaneers
DESCRIPTION:(W 2-1)
URL:https://northstarknights.com/event/u18-northstar-knights-vs-des-moines-jr-buccaneers/
LOCATION:Metro Ice Sports Facility\, 5100 NW 72nd St\, Urbandale\, IA\, 50322\, United States
CATEGORIES:18U Northstar Knights Season Schedule
END:VEVENT
BEGIN:VEVENT
DTSTART;TZID=America/Chicago:20220212T083000
DTEND;TZID=America/Chicago:20220212T083000
DTSTAMP:20260419T215952
CREATED:20211220T225657Z
LAST-MODIFIED:20220301T202439Z
UID:359-1644654600-1644654600@northstarknights.com
SUMMARY:U16 Northstar Knights vs Sioux Falls Power
DESCRIPTION:(L 0-1)
URL:https://northstarknights.com/event/u16-northstar-knights-vs-rink-academy-2/
LOCATION:NorthStar Sports Complex\, 3888 Pioneer Rd SE\, Alexandria\, MN\, 56308\, United States
CATEGORIES:16U Northstar Knights Season Schedule
END:VEVENT
BEGIN:VEVENT
DTSTART;TZID=America/Chicago:20220218T121500
DTEND;TZID=America/Chicago:20220218T121500
DTSTAMP:20260419T215952
CREATED:20220210T201132Z
LAST-MODIFIED:20220301T203355Z
UID:14267-1645186500-1645186500@northstarknights.com
SUMMARY:U18 Northstar Knights vs. Arizona Bobcats (NAPHL Playoffs)
DESCRIPTION:(SOL 5-6)
URL:https://northstarknights.com/event/u18-northstar-knights-vs-biggby-coffee-naphl-playoffs/
LOCATION:Troy Sports Center\, 1819 E Big Beaver Rd\, Troy\, MI\, 48083\, United States
CATEGORIES:18U Northstar Knights Season Schedule
END:VEVENT
BEGIN:VEVENT
DTSTART;TZID=America/Chicago:20220219T100000
DTEND;TZID=America/Chicago:20220219T100000
DTSTAMP:20260419T215952
CREATED:20220210T201209Z
LAST-MODIFIED:20220301T203425Z
UID:14268-1645264800-1645264800@northstarknights.com
SUMMARY:U18 Northstar Knights vs. Maine Nordiques (NAPHL Playoffs)
DESCRIPTION:(W 4-1)
URL:https://northstarknights.com/event/u18-northstar-knights-vs-carshield-naphl-playoffs/
LOCATION:Troy Sports Center\, 1819 E Big Beaver Rd\, Troy\, MI\, 48083\, United States
CATEGORIES:18U Northstar Knights Season Schedule
END:VEVENT
BEGIN:VEVENT
DTSTART;TZID=America/Chicago:20220220T060000
DTEND;TZID=America/Chicago:20220220T060000
DTSTAMP:20260419T215952
CREATED:20220210T201610Z
LAST-MODIFIED:20220301T204210Z
UID:14276-1645336800-1645336800@northstarknights.com
SUMMARY:U18 Northstar Knights vs. Tri State Spartans (NAPHL Playoffs - Quarterfinal)
DESCRIPTION:(W 4-1)
URL:https://northstarknights.com/event/u18-consolation-quarterfinals-semifinals-naphl-playoffs/
LOCATION:Troy Sports Center\, 1819 E Big Beaver Rd\, Troy\, MI\, 48083\, United States
CATEGORIES:18U Northstar Knights Season Schedule
END:VEVENT
BEGIN:VEVENT
DTSTART;TZID=America/Chicago:20220220T060000
DTEND;TZID=America/Chicago:20220220T060000
DTSTAMP:20260419T215952
CREATED:20220210T201644Z
LAST-MODIFIED:20220301T204151Z
UID:14278-1645336800-1645336800@northstarknights.com
SUMMARY:U16 Northstar Knights vs. Carshield (NAPHL Playoffs - Quarterfinal)
DESCRIPTION:(W 4-3)
URL:https://northstarknights.com/event/u16-consolation-quarterfinals-semifinals-naphl-playoffs/
LOCATION:Troy Sports Center\, 1819 E Big Beaver Rd\, Troy\, MI\, 48083\, United States
CATEGORIES:16U Northstar Knights Season Schedule
END:VEVENT
BEGIN:VEVENT
DTSTART;TZID=America/Chicago:20220220T130000
DTEND;TZID=America/Chicago:20220220T130000
DTSTAMP:20260419T215952
CREATED:20220301T203711Z
LAST-MODIFIED:20220301T203711Z
UID:14538-1645362000-1645362000@northstarknights.com
SUMMARY:U18 Northstar Knights vs. Maine Nordiques (NAPHL Playoffs - Semifinal)
DESCRIPTION:(W 3-1)
URL:https://northstarknights.com/event/u18-northstar-knights-vs-maine-nordiques-naphl-playoffs-semifinal/
LOCATION:Surburban Ice Macomb\, 54755 Broughton Road\, Macomb\, MI\, 48042\, United States
CATEGORIES:18U Northstar Knights Season Schedule
END:VEVENT
BEGIN:VEVENT
DTSTART;TZID=America/Chicago:20220221T051500
DTEND;TZID=America/Chicago:20220221T051500
DTSTAMP:20260419T215952
CREATED:20220210T201809Z
LAST-MODIFIED:20220301T203821Z
UID:14281-1645420500-1645420500@northstarknights.com
SUMMARY:U18 Northstar Knights vs. Biggby Coffee (NAPHL Playoffs - Championship)
DESCRIPTION:(W 2-1)
URL:https://northstarknights.com/event/u18-finals-naphl-playoffs/
LOCATION:Troy Sports Center\, 1819 E Big Beaver Rd\, Troy\, MI\, 48083\, United States
CATEGORIES:18U Northstar Knights Season Schedule
END:VEVENT
BEGIN:VEVENT
DTSTART;TZID=America/Chicago:20220221T110000
DTEND;TZID=America/Chicago:20220221T110000
DTSTAMP:20260419T215952
CREATED:20220210T201904Z
LAST-MODIFIED:20220301T204308Z
UID:14280-1645441200-1645441200@northstarknights.com
SUMMARY:U16 Northstar Knights vs. Esmark Stars (NAPHL Playoffs - Semifinal)
DESCRIPTION:(SOL 1-2)
URL:https://northstarknights.com/event/u16-finals-naphl-playoffs/
LOCATION:Surburban Ice Macomb\, 54755 Broughton Road\, Macomb\, MI\, 48042\, United States
CATEGORIES:16U Northstar Knights Season Schedule
END:VEVENT
END:VCALENDAR