BEGIN:VCALENDAR
VERSION:2.0
PRODID:-//Northstar Christian Academy - ECPv6.15.20//NONSGML v1.0//EN
CALSCALE:GREGORIAN
METHOD:PUBLISH
X-WR-CALNAME:Northstar Christian Academy
X-ORIGINAL-URL:https://northstarknights.com
X-WR-CALDESC:Events for Northstar Christian Academy
REFRESH-INTERVAL;VALUE=DURATION:PT1H
X-Robots-Tag:noindex
X-PUBLISHED-TTL:PT1H
BEGIN:VTIMEZONE
TZID:America/Chicago
BEGIN:DAYLIGHT
TZOFFSETFROM:-0600
TZOFFSETTO:-0500
TZNAME:CDT
DTSTART:20210314T080000
END:DAYLIGHT
BEGIN:STANDARD
TZOFFSETFROM:-0500
TZOFFSETTO:-0600
TZNAME:CST
DTSTART:20211107T070000
END:STANDARD
BEGIN:DAYLIGHT
TZOFFSETFROM:-0600
TZOFFSETTO:-0500
TZNAME:CDT
DTSTART:20220313T080000
END:DAYLIGHT
BEGIN:STANDARD
TZOFFSETFROM:-0500
TZOFFSETTO:-0600
TZNAME:CST
DTSTART:20221106T070000
END:STANDARD
BEGIN:DAYLIGHT
TZOFFSETFROM:-0600
TZOFFSETTO:-0500
TZNAME:CDT
DTSTART:20230312T080000
END:DAYLIGHT
BEGIN:STANDARD
TZOFFSETFROM:-0500
TZOFFSETTO:-0600
TZNAME:CST
DTSTART:20231105T070000
END:STANDARD
END:VTIMEZONE
BEGIN:VEVENT
DTSTART;TZID=America/Chicago:20220916T141500
DTEND;TZID=America/Chicago:20220916T161500
DTSTAMP:20260419T110459
CREATED:20220915T215411Z
LAST-MODIFIED:20221011T185844Z
UID:15128-1663337700-1663344900@northstarknights.com
SUMMARY:18U Knights vs. Florida Alliance (Blades Showcase)
DESCRIPTION:W 8-1
URL:https://northstarknights.com/event/18u-knights-vs-florida-alliance/
LOCATION:Brooklyn Park\, MN\, 5600 85th Ave. N.\, Minneapolis\, MN\, 55443\, United States
CATEGORIES:18U Northstar Knights Season Schedule
END:VEVENT
BEGIN:VEVENT
DTSTART;TZID=America/Chicago:20220916T143000
DTEND;TZID=America/Chicago:20220916T163000
DTSTAMP:20260419T110459
CREATED:20220811T042127Z
LAST-MODIFIED:20221011T190842Z
UID:14961-1663338600-1663345800@northstarknights.com
SUMMARY:16U Knights vs. New Jersey Rockets (Blades Showcase)
DESCRIPTION:L 1-7
URL:https://northstarknights.com/event/16u-knights-vs-new-jersey-rockets/
LOCATION:New Hope Ice Arena\, 4949 Louisiana Ave N\, New Hope\, 55428
CATEGORIES:16U Northstar Knights Season Schedule
END:VEVENT
BEGIN:VEVENT
DTSTART;TZID=America/Chicago:20220917T050000
DTEND;TZID=America/Chicago:20220917T070000
DTSTAMP:20260419T110459
CREATED:20220811T042340Z
LAST-MODIFIED:20221011T190938Z
UID:14963-1663390800-1663398000@northstarknights.com
SUMMARY:16U Knights vs. Windy City Storm (Blades Showcase)
DESCRIPTION:T 4-4
URL:https://northstarknights.com/event/16u-knights-vs-windy-city-storm/
LOCATION:New Hope Ice Arena\, 4949 Louisiana Ave N\, New Hope\, 55428
CATEGORIES:16U Northstar Knights Season Schedule
END:VEVENT
BEGIN:VEVENT
DTSTART;TZID=America/Chicago:20220917T063000
DTEND;TZID=America/Chicago:20220917T073000
DTSTAMP:20260419T110459
CREATED:20220915T215546Z
LAST-MODIFIED:20221011T185931Z
UID:15132-1663396200-1663399800@northstarknights.com
SUMMARY:18U Knights vs. Bishop Kearney (Blades Showcase)
DESCRIPTION:L 1-7
URL:https://northstarknights.com/event/18u-knights-vs-bishop-kearney/
LOCATION:Brooklyn Park\, MN\, 5600 85th Ave. N.\, Minneapolis\, MN\, 55443\, United States
CATEGORIES:18U Northstar Knights Season Schedule
END:VEVENT
BEGIN:VEVENT
DTSTART;TZID=America/Chicago:20220917T141500
DTEND;TZID=America/Chicago:20220917T163000
DTSTAMP:20260419T110459
CREATED:20220812T034747Z
LAST-MODIFIED:20221011T191028Z
UID:14974-1663424100-1663432200@northstarknights.com
SUMMARY:16U Knights vs. Bishop Kearney (Blades Showcase)
DESCRIPTION:W 3-2
URL:https://northstarknights.com/event/16u-knights-vs-bishop-kearney-blades-showcase/
LOCATION:New Hope Ice Arena\, 4949 Louisiana Ave N\, New Hope\, 55428
CATEGORIES:16U Northstar Knights Season Schedule
END:VEVENT
BEGIN:VEVENT
DTSTART;TZID=America/Chicago:20220917T143000
DTEND;TZID=America/Chicago:20220917T163000
DTSTAMP:20260419T110459
CREATED:20220915T215644Z
LAST-MODIFIED:20221011T190009Z
UID:15134-1663425000-1663432200@northstarknights.com
SUMMARY:18U Knights vs. Windy City (Blades Showcase)
DESCRIPTION:W 3-2
URL:https://northstarknights.com/event/18u-knights-vs-windy-city/
LOCATION:Brooklyn Park\, MN\, 5600 85th Ave. N.\, Minneapolis\, MN\, 55443\, United States
CATEGORIES:18U Northstar Knights Season Schedule
END:VEVENT
BEGIN:VEVENT
DTSTART;TZID=America/Chicago:20220918T061500
DTEND;TZID=America/Chicago:20220918T081500
DTSTAMP:20260419T110459
CREATED:20220915T215808Z
LAST-MODIFIED:20221011T190106Z
UID:15136-1663481700-1663488900@northstarknights.com
SUMMARY:18U Knights vs. Chicago Mission (Blades Showcase)
DESCRIPTION:W 7-2
URL:https://northstarknights.com/event/18u-knights-vs-chicago-mission/
LOCATION:Brooklyn Park\, MN\, 5600 85th Ave. N.\, Minneapolis\, MN\, 55443\, United States
CATEGORIES:18U Northstar Knights Season Schedule
END:VEVENT
BEGIN:VEVENT
DTSTART;TZID=America/Chicago:20220918T063000
DTEND;TZID=America/Chicago:20220918T083000
DTSTAMP:20260419T110459
CREATED:20220812T035059Z
LAST-MODIFIED:20221011T191058Z
UID:14975-1663482600-1663489800@northstarknights.com
SUMMARY:16U Knights vs. Chicago Mission (Blades Showcase)
DESCRIPTION:T 3-3
URL:https://northstarknights.com/event/16u-knights-vs-chicago-mission-blades-showcase/
LOCATION:New Hope Ice Arena\, 4949 Louisiana Ave N\, New Hope\, 55428
CATEGORIES:16U Northstar Knights Season Schedule
END:VEVENT
BEGIN:VEVENT
DTSTART;TZID=America/Chicago:20220924T113000
DTEND;TZID=America/Chicago:20220924T140000
DTSTAMP:20260419T110459
CREATED:20220810T211806Z
LAST-MODIFIED:20221011T191140Z
UID:14943-1664019000-1664028000@northstarknights.com
SUMMARY:16U Knights vs. MN Lakers
DESCRIPTION:W 4-3
URL:https://northstarknights.com/event/16u-knights-vs-mn-lakes/
LOCATION:NorthStar Sports Complex\, 3888 Pioneer Rd SE\, Alexandria\, MN\, 56308\, United States
CATEGORIES:16U Northstar Knights Season Schedule
END:VEVENT
BEGIN:VEVENT
DTSTART;TZID=America/Chicago:20220924T140000
DTEND;TZID=America/Chicago:20220924T160000
DTSTAMP:20260419T110459
CREATED:20220915T215959Z
LAST-MODIFIED:20221011T190252Z
UID:15137-1664028000-1664035200@northstarknights.com
SUMMARY:18U Knights vs. MN Lakers
DESCRIPTION:W 8-0
URL:https://northstarknights.com/event/18u-knights-vs-mn-lakers/
LOCATION:NorthStar Sports Complex\, 3888 Pioneer Rd SE\, Alexandria\, MN\, 56308\, United States
CATEGORIES:18U Northstar Knights Season Schedule
END:VEVENT
BEGIN:VEVENT
DTSTART;TZID=America/Chicago:20220925T043000
DTEND;TZID=America/Chicago:20220925T070000
DTSTAMP:20260419T110459
CREATED:20220810T212007Z
LAST-MODIFIED:20221011T195259Z
UID:14945-1664080200-1664089200@northstarknights.com
SUMMARY:16U Knights vs. MN Lakers
DESCRIPTION:OTW 4-3
URL:https://northstarknights.com/event/16u-knights-vs-mn-lakes-2/
LOCATION:NorthStar Sports Complex\, 3888 Pioneer Rd SE\, Alexandria\, MN\, 56308\, United States
CATEGORIES:16U Northstar Knights Season Schedule
END:VEVENT
BEGIN:VEVENT
DTSTART;TZID=America/Chicago:20220925T070000
DTEND;TZID=America/Chicago:20220925T090000
DTSTAMP:20260419T110459
CREATED:20220915T220048Z
LAST-MODIFIED:20221011T190330Z
UID:15142-1664089200-1664096400@northstarknights.com
SUMMARY:18U Knights vs. MN Lakers
DESCRIPTION:W 9-2
URL:https://northstarknights.com/event/18u-knights-vs-mn-lakers-2/
LOCATION:NorthStar Sports Complex\, 3888 Pioneer Rd SE\, Alexandria\, MN\, 56308\, United States
CATEGORIES:18U Northstar Knights Season Schedule
END:VEVENT
END:VCALENDAR